BEGIN:VCALENDAR
VERSION:2.0
PRODID:-//Dancing Gnome Brewery - ECPv6.15.12.2//NONSGML v1.0//EN
CALSCALE:GREGORIAN
METHOD:PUBLISH
X-WR-CALNAME:Dancing Gnome Brewery
X-ORIGINAL-URL:https://dancinggnomebeer.com
X-WR-CALDESC:Events for Dancing Gnome Brewery
REFRESH-INTERVAL;VALUE=DURATION:PT1H
X-Robots-Tag:noindex
X-PUBLISHED-TTL:PT1H
BEGIN:VTIMEZONE
TZID:America/New_York
BEGIN:DAYLIGHT
TZOFFSETFROM:-0500
TZOFFSETTO:-0400
TZNAME:EDT
DTSTART:20250309T070000
END:DAYLIGHT
BEGIN:STANDARD
TZOFFSETFROM:-0400
TZOFFSETTO:-0500
TZNAME:EST
DTSTART:20251102T060000
END:STANDARD
BEGIN:DAYLIGHT
TZOFFSETFROM:-0500
TZOFFSETTO:-0400
TZNAME:EDT
DTSTART:20260308T070000
END:DAYLIGHT
BEGIN:STANDARD
TZOFFSETFROM:-0400
TZOFFSETTO:-0500
TZNAME:EST
DTSTART:20261101T060000
END:STANDARD
BEGIN:DAYLIGHT
TZOFFSETFROM:-0500
TZOFFSETTO:-0400
TZNAME:EDT
DTSTART:20270314T070000
END:DAYLIGHT
BEGIN:STANDARD
TZOFFSETFROM:-0400
TZOFFSETTO:-0500
TZNAME:EST
DTSTART:20271107T060000
END:STANDARD
END:VTIMEZONE
BEGIN:VEVENT
DTSTART;TZID=America/New_York:20261012T173000
DTEND;TZID=America/New_York:20261012T210000
DTSTAMP:20260421T071349
CREATED:20260331T060039Z
LAST-MODIFIED:20260331T165128Z
UID:10005076-1791826200-1791838800@dancinggnomebeer.com
SUMMARY:Streets on the Fly
DESCRIPTION:
URL:https://dancinggnomebeer.com/event-detail/streets-on-the-fly/2026-10-12/
LOCATION:1025 Main – Taproom\, 1025 Main Street\, Pittsburgh\, PA\, 15215\, United States
CATEGORIES:Food Trucks
ORGANIZER;CN="Dancing Gnome Beer":MAILTO:info@dancinggnomebeer.com
END:VEVENT
BEGIN:VEVENT
DTSTART;TZID=America/New_York:20260518T173000
DTEND;TZID=America/New_York:20260518T210000
DTSTAMP:20260421T071349
CREATED:20260331T060039Z
LAST-MODIFIED:20260331T165128Z
UID:10005055-1779125400-1779138000@dancinggnomebeer.com
SUMMARY:Streets on the Fly
DESCRIPTION:
URL:https://dancinggnomebeer.com/event-detail/streets-on-the-fly/2026-05-18/
LOCATION:1025 Main – Taproom\, 1025 Main Street\, Pittsburgh\, PA\, 15215\, United States
CATEGORIES:Food Trucks
ORGANIZER;CN="Dancing Gnome Beer":MAILTO:info@dancinggnomebeer.com
END:VEVENT
BEGIN:VEVENT
DTSTART;TZID=America/New_York:20260803T173000
DTEND;TZID=America/New_York:20260803T210000
DTSTAMP:20260421T071349
CREATED:20260331T060039Z
LAST-MODIFIED:20260331T165128Z
UID:10005066-1785778200-1785790800@dancinggnomebeer.com
SUMMARY:Streets on the Fly
DESCRIPTION:
URL:https://dancinggnomebeer.com/event-detail/streets-on-the-fly/2026-08-03/
LOCATION:1025 Main – Taproom\, 1025 Main Street\, Pittsburgh\, PA\, 15215\, United States
CATEGORIES:Food Trucks
ORGANIZER;CN="Dancing Gnome Beer":MAILTO:info@dancinggnomebeer.com
END:VEVENT
BEGIN:VEVENT
DTSTART;TZID=America/New_York:20261019T173000
DTEND;TZID=America/New_York:20261019T210000
DTSTAMP:20260421T071349
CREATED:20260331T060039Z
LAST-MODIFIED:20260331T165128Z
UID:10005077-1792431000-1792443600@dancinggnomebeer.com
SUMMARY:Streets on the Fly
DESCRIPTION:
URL:https://dancinggnomebeer.com/event-detail/streets-on-the-fly/2026-10-19/
LOCATION:1025 Main – Taproom\, 1025 Main Street\, Pittsburgh\, PA\, 15215\, United States
CATEGORIES:Food Trucks
ORGANIZER;CN="Dancing Gnome Beer":MAILTO:info@dancinggnomebeer.com
END:VEVENT
BEGIN:VEVENT
DTSTART;TZID=America/New_York:20260525T173000
DTEND;TZID=America/New_York:20260525T210000
DTSTAMP:20260421T071349
CREATED:20260331T060039Z
LAST-MODIFIED:20260331T165128Z
UID:10005056-1779730200-1779742800@dancinggnomebeer.com
SUMMARY:Streets on the Fly
DESCRIPTION:
URL:https://dancinggnomebeer.com/event-detail/streets-on-the-fly/2026-05-25/
LOCATION:1025 Main – Taproom\, 1025 Main Street\, Pittsburgh\, PA\, 15215\, United States
CATEGORIES:Food Trucks
ORGANIZER;CN="Dancing Gnome Beer":MAILTO:info@dancinggnomebeer.com
END:VEVENT
BEGIN:VEVENT
DTSTART;TZID=America/New_York:20260503T120000
DTEND;TZID=America/New_York:20260503T180000
DTSTAMP:20260421T071349
CREATED:20260406T060017Z
LAST-MODIFIED:20260406T175252Z
UID:10002325-1777809600-1777831200@dancinggnomebeer.com
SUMMARY:G.S. Sando Co.
DESCRIPTION:
URL:https://dancinggnomebeer.com/event-detail/g-s-sando-co/
LOCATION:1025 Main – Taproom\, 1025 Main Street\, Pittsburgh\, PA\, 15215\, United States
CATEGORIES:Food Trucks
ORGANIZER;CN="Dancing Gnome Beer":MAILTO:info@dancinggnomebeer.com
END:VEVENT
BEGIN:VEVENT
DTSTART;TZID=America/New_York:20260502T150000
DTEND;TZID=America/New_York:20260502T210000
DTSTAMP:20260421T071349
CREATED:20260406T060017Z
LAST-MODIFIED:20260406T175440Z
UID:10003521-1777734000-1777755600@dancinggnomebeer.com
SUMMARY:La Palapa Mexican Cuisine
DESCRIPTION:
URL:https://dancinggnomebeer.com/event-detail/la-palapa-mexican-cuisine-2/
LOCATION:1025 Main – Taproom\, 1025 Main Street\, Pittsburgh\, PA\, 15215\, United States
CATEGORIES:Food Trucks
ORGANIZER;CN="Dancing Gnome Beer":MAILTO:info@dancinggnomebeer.com
END:VEVENT
BEGIN:VEVENT
DTSTART;TZID=America/New_York:20260510T120000
DTEND;TZID=America/New_York:20260510T180000
DTSTAMP:20260421T071349
CREATED:20260413T060007Z
LAST-MODIFIED:20260413T180700Z
UID:10005019-1778414400-1778436000@dancinggnomebeer.com
SUMMARY:Steer and Wheel
DESCRIPTION:
URL:https://dancinggnomebeer.com/event-detail/steer-and-wheel-4/
LOCATION:1025 Main – Taproom\, 1025 Main Street\, Pittsburgh\, PA\, 15215\, United States
CATEGORIES:Food Trucks
ORGANIZER;CN="Dancing Gnome Beer":MAILTO:info@dancinggnomebeer.com
END:VEVENT
BEGIN:VEVENT
DTSTART;TZID=America/New_York:20260426T120000
DTEND;TZID=America/New_York:20260426T180000
DTSTAMP:20260421T071349
CREATED:20260413T060045Z
LAST-MODIFIED:20260413T180556Z
UID:10003520-1777204800-1777226400@dancinggnomebeer.com
SUMMARY:Steer and Wheel
DESCRIPTION:
URL:https://dancinggnomebeer.com/event-detail/steer-and-wheel-2/
LOCATION:1025 Main – Taproom\, 1025 Main Street\, Pittsburgh\, PA\, 15215\, United States
CATEGORIES:Food Trucks
ORGANIZER;CN="Dancing Gnome Beer":MAILTO:info@dancinggnomebeer.com
END:VEVENT
END:VCALENDAR