BEGIN:VCALENDAR
VERSION:2.0
PRODID:-//Dancing Gnome Brewery - ECPv6.15.12.2//NONSGML v1.0//EN
CALSCALE:GREGORIAN
METHOD:PUBLISH
X-WR-CALNAME:Dancing Gnome Brewery
X-ORIGINAL-URL:https://dancinggnomebeer.com
X-WR-CALDESC:Events for Dancing Gnome Brewery
REFRESH-INTERVAL;VALUE=DURATION:PT1H
X-Robots-Tag:noindex
X-PUBLISHED-TTL:PT1H
BEGIN:VTIMEZONE
TZID:America/New_York
BEGIN:DAYLIGHT
TZOFFSETFROM:-0500
TZOFFSETTO:-0400
TZNAME:EDT
DTSTART:20250309T070000
END:DAYLIGHT
BEGIN:STANDARD
TZOFFSETFROM:-0400
TZOFFSETTO:-0500
TZNAME:EST
DTSTART:20251102T060000
END:STANDARD
BEGIN:DAYLIGHT
TZOFFSETFROM:-0500
TZOFFSETTO:-0400
TZNAME:EDT
DTSTART:20260308T070000
END:DAYLIGHT
BEGIN:STANDARD
TZOFFSETFROM:-0400
TZOFFSETTO:-0500
TZNAME:EST
DTSTART:20261101T060000
END:STANDARD
BEGIN:DAYLIGHT
TZOFFSETFROM:-0500
TZOFFSETTO:-0400
TZNAME:EDT
DTSTART:20270314T070000
END:DAYLIGHT
BEGIN:STANDARD
TZOFFSETFROM:-0400
TZOFFSETTO:-0500
TZNAME:EST
DTSTART:20271107T060000
END:STANDARD
BEGIN:DAYLIGHT
TZOFFSETFROM:-0500
TZOFFSETTO:-0400
TZNAME:EDT
DTSTART:20280312T070000
END:DAYLIGHT
BEGIN:STANDARD
TZOFFSETFROM:-0400
TZOFFSETTO:-0500
TZNAME:EST
DTSTART:20281105T060000
END:STANDARD
BEGIN:DAYLIGHT
TZOFFSETFROM:-0500
TZOFFSETTO:-0400
TZNAME:EDT
DTSTART:20290311T070000
END:DAYLIGHT
BEGIN:STANDARD
TZOFFSETFROM:-0400
TZOFFSETTO:-0500
TZNAME:EST
DTSTART:20291104T060000
END:STANDARD
BEGIN:DAYLIGHT
TZOFFSETFROM:-0500
TZOFFSETTO:-0400
TZNAME:EDT
DTSTART:20300310T070000
END:DAYLIGHT
BEGIN:STANDARD
TZOFFSETFROM:-0400
TZOFFSETTO:-0500
TZNAME:EST
DTSTART:20301103T060000
END:STANDARD
BEGIN:DAYLIGHT
TZOFFSETFROM:-0500
TZOFFSETTO:-0400
TZNAME:EDT
DTSTART:20310309T070000
END:DAYLIGHT
BEGIN:STANDARD
TZOFFSETFROM:-0400
TZOFFSETTO:-0500
TZNAME:EST
DTSTART:20311102T060000
END:STANDARD
BEGIN:DAYLIGHT
TZOFFSETFROM:-0500
TZOFFSETTO:-0400
TZNAME:EDT
DTSTART:20320314T070000
END:DAYLIGHT
BEGIN:STANDARD
TZOFFSETFROM:-0400
TZOFFSETTO:-0500
TZNAME:EST
DTSTART:20321107T060000
END:STANDARD
END:VTIMEZONE
BEGIN:VEVENT
DTSTART;TZID=America/New_York:20300322T160000
DTEND;TZID=America/New_York:20300322T210000
DTSTAMP:20260421T001710
CREATED:20260315T060052Z
LAST-MODIFIED:20260316T182925Z
UID:10003084-1900425600-1900443600@dancinggnomebeer.com
SUMMARY:Pittsburgh Sandwich Society
DESCRIPTION:
URL:https://dancinggnomebeer.com/event-detail/pittsburgh-sandwich-society-2/2030-03-22/
LOCATION:1025 Main – Taproom\, 1025 Main Street\, Pittsburgh\, PA\, 15215\, United States
CATEGORIES:Food Trucks
ORGANIZER;CN="Dancing Gnome Beer":MAILTO:info@dancinggnomebeer.com
END:VEVENT
BEGIN:VEVENT
DTSTART;TZID=America/New_York:20301101T160000
DTEND;TZID=America/New_York:20301101T210000
DTSTAMP:20260421T001710
CREATED:20260315T060052Z
LAST-MODIFIED:20260316T182925Z
UID:10004997-1919779200-1919797200@dancinggnomebeer.com
SUMMARY:Pittsburgh Sandwich Society
DESCRIPTION:
URL:https://dancinggnomebeer.com/event-detail/pittsburgh-sandwich-society-2/2030-11-01/
LOCATION:1025 Main – Taproom\, 1025 Main Street\, Pittsburgh\, PA\, 15215\, United States
CATEGORIES:Food Trucks
ORGANIZER;CN="Dancing Gnome Beer":MAILTO:info@dancinggnomebeer.com
END:VEVENT
BEGIN:VEVENT
DTSTART;TZID=America/New_York:20261002T160000
DTEND;TZID=America/New_York:20261002T210000
DTSTAMP:20260421T001710
CREATED:20260315T060052Z
LAST-MODIFIED:20260316T182925Z
UID:10002903-1790956800-1790974800@dancinggnomebeer.com
SUMMARY:Pittsburgh Sandwich Society
DESCRIPTION:
URL:https://dancinggnomebeer.com/event-detail/pittsburgh-sandwich-society-2/2026-10-02/
LOCATION:1025 Main – Taproom\, 1025 Main Street\, Pittsburgh\, PA\, 15215\, United States
CATEGORIES:Food Trucks
ORGANIZER;CN="Dancing Gnome Beer":MAILTO:info@dancinggnomebeer.com
END:VEVENT
BEGIN:VEVENT
DTSTART;TZID=America/New_York:20270514T160000
DTEND;TZID=America/New_York:20270514T210000
DTSTAMP:20260421T001710
CREATED:20260315T060052Z
LAST-MODIFIED:20260316T182925Z
UID:10002935-1810310400-1810328400@dancinggnomebeer.com
SUMMARY:Pittsburgh Sandwich Society
DESCRIPTION:
URL:https://dancinggnomebeer.com/event-detail/pittsburgh-sandwich-society-2/2027-05-14/
LOCATION:1025 Main – Taproom\, 1025 Main Street\, Pittsburgh\, PA\, 15215\, United States
CATEGORIES:Food Trucks
ORGANIZER;CN="Dancing Gnome Beer":MAILTO:info@dancinggnomebeer.com
END:VEVENT
BEGIN:VEVENT
DTSTART;TZID=America/New_York:20271224T160000
DTEND;TZID=America/New_York:20271224T210000
DTSTAMP:20260421T001710
CREATED:20260315T060052Z
LAST-MODIFIED:20260316T182925Z
UID:10002967-1829664000-1829682000@dancinggnomebeer.com
SUMMARY:Pittsburgh Sandwich Society
DESCRIPTION:
URL:https://dancinggnomebeer.com/event-detail/pittsburgh-sandwich-society-2/2027-12-24/
LOCATION:1025 Main – Taproom\, 1025 Main Street\, Pittsburgh\, PA\, 15215\, United States
CATEGORIES:Food Trucks
ORGANIZER;CN="Dancing Gnome Beer":MAILTO:info@dancinggnomebeer.com
END:VEVENT
BEGIN:VEVENT
DTSTART;TZID=America/New_York:20280804T160000
DTEND;TZID=America/New_York:20280804T210000
DTSTAMP:20260421T001710
CREATED:20260315T060052Z
LAST-MODIFIED:20260316T182925Z
UID:10002999-1849017600-1849035600@dancinggnomebeer.com
SUMMARY:Pittsburgh Sandwich Society
DESCRIPTION:
URL:https://dancinggnomebeer.com/event-detail/pittsburgh-sandwich-society-2/2028-08-04/
LOCATION:1025 Main – Taproom\, 1025 Main Street\, Pittsburgh\, PA\, 15215\, United States
CATEGORIES:Food Trucks
ORGANIZER;CN="Dancing Gnome Beer":MAILTO:info@dancinggnomebeer.com
END:VEVENT
BEGIN:VEVENT
DTSTART;TZID=America/New_York:20290316T160000
DTEND;TZID=America/New_York:20290316T210000
DTSTAMP:20260421T001710
CREATED:20260315T060052Z
LAST-MODIFIED:20260316T182925Z
UID:10003031-1868371200-1868389200@dancinggnomebeer.com
SUMMARY:Pittsburgh Sandwich Society
DESCRIPTION:
URL:https://dancinggnomebeer.com/event-detail/pittsburgh-sandwich-society-2/2029-03-16/
LOCATION:1025 Main – Taproom\, 1025 Main Street\, Pittsburgh\, PA\, 15215\, United States
CATEGORIES:Food Trucks
ORGANIZER;CN="Dancing Gnome Beer":MAILTO:info@dancinggnomebeer.com
END:VEVENT
BEGIN:VEVENT
DTSTART;TZID=America/New_York:20291026T160000
DTEND;TZID=America/New_York:20291026T210000
DTSTAMP:20260421T001710
CREATED:20260315T060052Z
LAST-MODIFIED:20260316T182925Z
UID:10003063-1887724800-1887742800@dancinggnomebeer.com
SUMMARY:Pittsburgh Sandwich Society
DESCRIPTION:
URL:https://dancinggnomebeer.com/event-detail/pittsburgh-sandwich-society-2/2029-10-26/
LOCATION:1025 Main – Taproom\, 1025 Main Street\, Pittsburgh\, PA\, 15215\, United States
CATEGORIES:Food Trucks
ORGANIZER;CN="Dancing Gnome Beer":MAILTO:info@dancinggnomebeer.com
END:VEVENT
BEGIN:VEVENT
DTSTART;TZID=America/New_York:20300607T160000
DTEND;TZID=America/New_York:20300607T210000
DTSTAMP:20260421T001710
CREATED:20260315T060052Z
LAST-MODIFIED:20260316T182925Z
UID:10003095-1907078400-1907096400@dancinggnomebeer.com
SUMMARY:Pittsburgh Sandwich Society
DESCRIPTION:
URL:https://dancinggnomebeer.com/event-detail/pittsburgh-sandwich-society-2/2030-06-07/
LOCATION:1025 Main – Taproom\, 1025 Main Street\, Pittsburgh\, PA\, 15215\, United States
CATEGORIES:Food Trucks
ORGANIZER;CN="Dancing Gnome Beer":MAILTO:info@dancinggnomebeer.com
END:VEVENT
BEGIN:VEVENT
DTSTART;TZID=America/New_York:20310117T160000
DTEND;TZID=America/New_York:20310117T210000
DTSTAMP:20260421T001710
CREATED:20260315T060052Z
LAST-MODIFIED:20260316T182925Z
UID:10005038-1926432000-1926450000@dancinggnomebeer.com
SUMMARY:Pittsburgh Sandwich Society
DESCRIPTION:
URL:https://dancinggnomebeer.com/event-detail/pittsburgh-sandwich-society-2/2031-01-17/
LOCATION:1025 Main – Taproom\, 1025 Main Street\, Pittsburgh\, PA\, 15215\, United States
CATEGORIES:Food Trucks
ORGANIZER;CN="Dancing Gnome Beer":MAILTO:info@dancinggnomebeer.com
END:VEVENT
BEGIN:VEVENT
DTSTART;TZID=America/New_York:20260508T160000
DTEND;TZID=America/New_York:20260508T210000
DTSTAMP:20260421T001710
CREATED:20260315T060052Z
LAST-MODIFIED:20260316T182925Z
UID:10002882-1778256000-1778274000@dancinggnomebeer.com
SUMMARY:Pittsburgh Sandwich Society
DESCRIPTION:
URL:https://dancinggnomebeer.com/event-detail/pittsburgh-sandwich-society-2/2026-05-08/
LOCATION:1025 Main – Taproom\, 1025 Main Street\, Pittsburgh\, PA\, 15215\, United States
CATEGORIES:Food Trucks
ORGANIZER;CN="Dancing Gnome Beer":MAILTO:info@dancinggnomebeer.com
END:VEVENT
BEGIN:VEVENT
DTSTART;TZID=America/New_York:20261218T160000
DTEND;TZID=America/New_York:20261218T210000
DTSTAMP:20260421T001710
CREATED:20260315T060052Z
LAST-MODIFIED:20260316T182925Z
UID:10002914-1797609600-1797627600@dancinggnomebeer.com
SUMMARY:Pittsburgh Sandwich Society
DESCRIPTION:
URL:https://dancinggnomebeer.com/event-detail/pittsburgh-sandwich-society-2/2026-12-18/
LOCATION:1025 Main – Taproom\, 1025 Main Street\, Pittsburgh\, PA\, 15215\, United States
CATEGORIES:Food Trucks
ORGANIZER;CN="Dancing Gnome Beer":MAILTO:info@dancinggnomebeer.com
END:VEVENT
BEGIN:VEVENT
DTSTART;TZID=America/New_York:20270730T160000
DTEND;TZID=America/New_York:20270730T210000
DTSTAMP:20260421T001710
CREATED:20260315T060052Z
LAST-MODIFIED:20260316T182925Z
UID:10002946-1816963200-1816981200@dancinggnomebeer.com
SUMMARY:Pittsburgh Sandwich Society
DESCRIPTION:
URL:https://dancinggnomebeer.com/event-detail/pittsburgh-sandwich-society-2/2027-07-30/
LOCATION:1025 Main – Taproom\, 1025 Main Street\, Pittsburgh\, PA\, 15215\, United States
CATEGORIES:Food Trucks
ORGANIZER;CN="Dancing Gnome Beer":MAILTO:info@dancinggnomebeer.com
END:VEVENT
BEGIN:VEVENT
DTSTART;TZID=America/New_York:20280310T160000
DTEND;TZID=America/New_York:20280310T210000
DTSTAMP:20260421T001710
CREATED:20260315T060052Z
LAST-MODIFIED:20260316T182925Z
UID:10002978-1836316800-1836334800@dancinggnomebeer.com
SUMMARY:Pittsburgh Sandwich Society
DESCRIPTION:
URL:https://dancinggnomebeer.com/event-detail/pittsburgh-sandwich-society-2/2028-03-10/
LOCATION:1025 Main – Taproom\, 1025 Main Street\, Pittsburgh\, PA\, 15215\, United States
CATEGORIES:Food Trucks
ORGANIZER;CN="Dancing Gnome Beer":MAILTO:info@dancinggnomebeer.com
END:VEVENT
BEGIN:VEVENT
DTSTART;TZID=America/New_York:20281020T160000
DTEND;TZID=America/New_York:20281020T210000
DTSTAMP:20260421T001710
CREATED:20260315T060052Z
LAST-MODIFIED:20260316T182925Z
UID:10003010-1855670400-1855688400@dancinggnomebeer.com
SUMMARY:Pittsburgh Sandwich Society
DESCRIPTION:
URL:https://dancinggnomebeer.com/event-detail/pittsburgh-sandwich-society-2/2028-10-20/
LOCATION:1025 Main – Taproom\, 1025 Main Street\, Pittsburgh\, PA\, 15215\, United States
CATEGORIES:Food Trucks
ORGANIZER;CN="Dancing Gnome Beer":MAILTO:info@dancinggnomebeer.com
END:VEVENT
BEGIN:VEVENT
DTSTART;TZID=America/New_York:20290601T160000
DTEND;TZID=America/New_York:20290601T210000
DTSTAMP:20260421T001710
CREATED:20260315T060052Z
LAST-MODIFIED:20260316T182925Z
UID:10003042-1875024000-1875042000@dancinggnomebeer.com
SUMMARY:Pittsburgh Sandwich Society
DESCRIPTION:
URL:https://dancinggnomebeer.com/event-detail/pittsburgh-sandwich-society-2/2029-06-01/
LOCATION:1025 Main – Taproom\, 1025 Main Street\, Pittsburgh\, PA\, 15215\, United States
CATEGORIES:Food Trucks
ORGANIZER;CN="Dancing Gnome Beer":MAILTO:info@dancinggnomebeer.com
END:VEVENT
BEGIN:VEVENT
DTSTART;TZID=America/New_York:20300111T160000
DTEND;TZID=America/New_York:20300111T210000
DTSTAMP:20260421T001710
CREATED:20260315T060052Z
LAST-MODIFIED:20260316T182925Z
UID:10003074-1894377600-1894395600@dancinggnomebeer.com
SUMMARY:Pittsburgh Sandwich Society
DESCRIPTION:
URL:https://dancinggnomebeer.com/event-detail/pittsburgh-sandwich-society-2/2030-01-11/
LOCATION:1025 Main – Taproom\, 1025 Main Street\, Pittsburgh\, PA\, 15215\, United States
CATEGORIES:Food Trucks
ORGANIZER;CN="Dancing Gnome Beer":MAILTO:info@dancinggnomebeer.com
END:VEVENT
BEGIN:VEVENT
DTSTART;TZID=America/New_York:20300823T160000
DTEND;TZID=America/New_York:20300823T210000
DTSTAMP:20260421T001710
CREATED:20260315T060052Z
LAST-MODIFIED:20260316T182925Z
UID:10004987-1913731200-1913749200@dancinggnomebeer.com
SUMMARY:Pittsburgh Sandwich Society
DESCRIPTION:
URL:https://dancinggnomebeer.com/event-detail/pittsburgh-sandwich-society-2/2030-08-23/
LOCATION:1025 Main – Taproom\, 1025 Main Street\, Pittsburgh\, PA\, 15215\, United States
CATEGORIES:Food Trucks
ORGANIZER;CN="Dancing Gnome Beer":MAILTO:info@dancinggnomebeer.com
END:VEVENT
BEGIN:VEVENT
DTSTART;TZID=America/New_York:20260724T160000
DTEND;TZID=America/New_York:20260724T210000
DTSTAMP:20260421T001710
CREATED:20260315T060052Z
LAST-MODIFIED:20260316T182925Z
UID:10002893-1784908800-1784926800@dancinggnomebeer.com
SUMMARY:Pittsburgh Sandwich Society
DESCRIPTION:
URL:https://dancinggnomebeer.com/event-detail/pittsburgh-sandwich-society-2/2026-07-24/
LOCATION:1025 Main – Taproom\, 1025 Main Street\, Pittsburgh\, PA\, 15215\, United States
CATEGORIES:Food Trucks
ORGANIZER;CN="Dancing Gnome Beer":MAILTO:info@dancinggnomebeer.com
END:VEVENT
BEGIN:VEVENT
DTSTART;TZID=America/New_York:20270305T160000
DTEND;TZID=America/New_York:20270305T210000
DTSTAMP:20260421T001710
CREATED:20260315T060052Z
LAST-MODIFIED:20260316T182925Z
UID:10002925-1804262400-1804280400@dancinggnomebeer.com
SUMMARY:Pittsburgh Sandwich Society
DESCRIPTION:
URL:https://dancinggnomebeer.com/event-detail/pittsburgh-sandwich-society-2/2027-03-05/
LOCATION:1025 Main – Taproom\, 1025 Main Street\, Pittsburgh\, PA\, 15215\, United States
CATEGORIES:Food Trucks
ORGANIZER;CN="Dancing Gnome Beer":MAILTO:info@dancinggnomebeer.com
END:VEVENT
BEGIN:VEVENT
DTSTART;TZID=America/New_York:20271015T160000
DTEND;TZID=America/New_York:20271015T210000
DTSTAMP:20260421T001710
CREATED:20260315T060052Z
LAST-MODIFIED:20260316T182925Z
UID:10002957-1823616000-1823634000@dancinggnomebeer.com
SUMMARY:Pittsburgh Sandwich Society
DESCRIPTION:
URL:https://dancinggnomebeer.com/event-detail/pittsburgh-sandwich-society-2/2027-10-15/
LOCATION:1025 Main – Taproom\, 1025 Main Street\, Pittsburgh\, PA\, 15215\, United States
CATEGORIES:Food Trucks
ORGANIZER;CN="Dancing Gnome Beer":MAILTO:info@dancinggnomebeer.com
END:VEVENT
BEGIN:VEVENT
DTSTART;TZID=America/New_York:20280526T160000
DTEND;TZID=America/New_York:20280526T210000
DTSTAMP:20260421T001710
CREATED:20260315T060052Z
LAST-MODIFIED:20260316T182925Z
UID:10002989-1842969600-1842987600@dancinggnomebeer.com
SUMMARY:Pittsburgh Sandwich Society
DESCRIPTION:
URL:https://dancinggnomebeer.com/event-detail/pittsburgh-sandwich-society-2/2028-05-26/
LOCATION:1025 Main – Taproom\, 1025 Main Street\, Pittsburgh\, PA\, 15215\, United States
CATEGORIES:Food Trucks
ORGANIZER;CN="Dancing Gnome Beer":MAILTO:info@dancinggnomebeer.com
END:VEVENT
BEGIN:VEVENT
DTSTART;TZID=America/New_York:20290105T160000
DTEND;TZID=America/New_York:20290105T210000
DTSTAMP:20260421T001710
CREATED:20260315T060052Z
LAST-MODIFIED:20260316T182925Z
UID:10003021-1862323200-1862341200@dancinggnomebeer.com
SUMMARY:Pittsburgh Sandwich Society
DESCRIPTION:
URL:https://dancinggnomebeer.com/event-detail/pittsburgh-sandwich-society-2/2029-01-05/
LOCATION:1025 Main – Taproom\, 1025 Main Street\, Pittsburgh\, PA\, 15215\, United States
CATEGORIES:Food Trucks
ORGANIZER;CN="Dancing Gnome Beer":MAILTO:info@dancinggnomebeer.com
END:VEVENT
BEGIN:VEVENT
DTSTART;TZID=America/New_York:20290817T160000
DTEND;TZID=America/New_York:20290817T210000
DTSTAMP:20260421T001710
CREATED:20260315T060052Z
LAST-MODIFIED:20260316T182925Z
UID:10003053-1881676800-1881694800@dancinggnomebeer.com
SUMMARY:Pittsburgh Sandwich Society
DESCRIPTION:
URL:https://dancinggnomebeer.com/event-detail/pittsburgh-sandwich-society-2/2029-08-17/
LOCATION:1025 Main – Taproom\, 1025 Main Street\, Pittsburgh\, PA\, 15215\, United States
CATEGORIES:Food Trucks
ORGANIZER;CN="Dancing Gnome Beer":MAILTO:info@dancinggnomebeer.com
END:VEVENT
BEGIN:VEVENT
DTSTART;TZID=America/New_York:20300329T160000
DTEND;TZID=America/New_York:20300329T210000
DTSTAMP:20260421T001710
CREATED:20260315T060052Z
LAST-MODIFIED:20260316T182925Z
UID:10003085-1901030400-1901048400@dancinggnomebeer.com
SUMMARY:Pittsburgh Sandwich Society
DESCRIPTION:
URL:https://dancinggnomebeer.com/event-detail/pittsburgh-sandwich-society-2/2030-03-29/
LOCATION:1025 Main – Taproom\, 1025 Main Street\, Pittsburgh\, PA\, 15215\, United States
CATEGORIES:Food Trucks
ORGANIZER;CN="Dancing Gnome Beer":MAILTO:info@dancinggnomebeer.com
END:VEVENT
BEGIN:VEVENT
DTSTART;TZID=America/New_York:20301108T160000
DTEND;TZID=America/New_York:20301108T210000
DTSTAMP:20260421T001710
CREATED:20260315T060052Z
LAST-MODIFIED:20260316T182925Z
UID:10004998-1920384000-1920402000@dancinggnomebeer.com
SUMMARY:Pittsburgh Sandwich Society
DESCRIPTION:
URL:https://dancinggnomebeer.com/event-detail/pittsburgh-sandwich-society-2/2030-11-08/
LOCATION:1025 Main – Taproom\, 1025 Main Street\, Pittsburgh\, PA\, 15215\, United States
CATEGORIES:Food Trucks
ORGANIZER;CN="Dancing Gnome Beer":MAILTO:info@dancinggnomebeer.com
END:VEVENT
BEGIN:VEVENT
DTSTART;TZID=America/New_York:20261009T160000
DTEND;TZID=America/New_York:20261009T210000
DTSTAMP:20260421T001710
CREATED:20260315T060052Z
LAST-MODIFIED:20260316T182925Z
UID:10002904-1791561600-1791579600@dancinggnomebeer.com
SUMMARY:Pittsburgh Sandwich Society
DESCRIPTION:
URL:https://dancinggnomebeer.com/event-detail/pittsburgh-sandwich-society-2/2026-10-09/
LOCATION:1025 Main – Taproom\, 1025 Main Street\, Pittsburgh\, PA\, 15215\, United States
CATEGORIES:Food Trucks
ORGANIZER;CN="Dancing Gnome Beer":MAILTO:info@dancinggnomebeer.com
END:VEVENT
BEGIN:VEVENT
DTSTART;TZID=America/New_York:20270521T160000
DTEND;TZID=America/New_York:20270521T210000
DTSTAMP:20260421T001710
CREATED:20260315T060052Z
LAST-MODIFIED:20260316T182925Z
UID:10002936-1810915200-1810933200@dancinggnomebeer.com
SUMMARY:Pittsburgh Sandwich Society
DESCRIPTION:
URL:https://dancinggnomebeer.com/event-detail/pittsburgh-sandwich-society-2/2027-05-21/
LOCATION:1025 Main – Taproom\, 1025 Main Street\, Pittsburgh\, PA\, 15215\, United States
CATEGORIES:Food Trucks
ORGANIZER;CN="Dancing Gnome Beer":MAILTO:info@dancinggnomebeer.com
END:VEVENT
BEGIN:VEVENT
DTSTART;TZID=America/New_York:20271231T160000
DTEND;TZID=America/New_York:20271231T210000
DTSTAMP:20260421T001710
CREATED:20260315T060052Z
LAST-MODIFIED:20260316T182925Z
UID:10002968-1830268800-1830286800@dancinggnomebeer.com
SUMMARY:Pittsburgh Sandwich Society
DESCRIPTION:
URL:https://dancinggnomebeer.com/event-detail/pittsburgh-sandwich-society-2/2027-12-31/
LOCATION:1025 Main – Taproom\, 1025 Main Street\, Pittsburgh\, PA\, 15215\, United States
CATEGORIES:Food Trucks
ORGANIZER;CN="Dancing Gnome Beer":MAILTO:info@dancinggnomebeer.com
END:VEVENT
BEGIN:VEVENT
DTSTART;TZID=America/New_York:20280811T160000
DTEND;TZID=America/New_York:20280811T210000
DTSTAMP:20260421T001710
CREATED:20260315T060052Z
LAST-MODIFIED:20260316T182925Z
UID:10003000-1849622400-1849640400@dancinggnomebeer.com
SUMMARY:Pittsburgh Sandwich Society
DESCRIPTION:
URL:https://dancinggnomebeer.com/event-detail/pittsburgh-sandwich-society-2/2028-08-11/
LOCATION:1025 Main – Taproom\, 1025 Main Street\, Pittsburgh\, PA\, 15215\, United States
CATEGORIES:Food Trucks
ORGANIZER;CN="Dancing Gnome Beer":MAILTO:info@dancinggnomebeer.com
END:VEVENT
END:VCALENDAR