BEGIN:VCALENDAR
VERSION:2.0
PRODID:-//Dancing Gnome Brewery - ECPv6.15.12.2//NONSGML v1.0//EN
CALSCALE:GREGORIAN
METHOD:PUBLISH
X-WR-CALNAME:Dancing Gnome Brewery
X-ORIGINAL-URL:https://dancinggnomebeer.com
X-WR-CALDESC:Events for Dancing Gnome Brewery
REFRESH-INTERVAL;VALUE=DURATION:PT1H
X-Robots-Tag:noindex
X-PUBLISHED-TTL:PT1H
BEGIN:VTIMEZONE
TZID:America/New_York
BEGIN:DAYLIGHT
TZOFFSETFROM:-0500
TZOFFSETTO:-0400
TZNAME:EDT
DTSTART:20250309T070000
END:DAYLIGHT
BEGIN:STANDARD
TZOFFSETFROM:-0400
TZOFFSETTO:-0500
TZNAME:EST
DTSTART:20251102T060000
END:STANDARD
BEGIN:DAYLIGHT
TZOFFSETFROM:-0500
TZOFFSETTO:-0400
TZNAME:EDT
DTSTART:20260308T070000
END:DAYLIGHT
BEGIN:STANDARD
TZOFFSETFROM:-0400
TZOFFSETTO:-0500
TZNAME:EST
DTSTART:20261101T060000
END:STANDARD
BEGIN:DAYLIGHT
TZOFFSETFROM:-0500
TZOFFSETTO:-0400
TZNAME:EDT
DTSTART:20270314T070000
END:DAYLIGHT
BEGIN:STANDARD
TZOFFSETFROM:-0400
TZOFFSETTO:-0500
TZNAME:EST
DTSTART:20271107T060000
END:STANDARD
BEGIN:DAYLIGHT
TZOFFSETFROM:-0500
TZOFFSETTO:-0400
TZNAME:EDT
DTSTART:20280312T070000
END:DAYLIGHT
BEGIN:STANDARD
TZOFFSETFROM:-0400
TZOFFSETTO:-0500
TZNAME:EST
DTSTART:20281105T060000
END:STANDARD
BEGIN:DAYLIGHT
TZOFFSETFROM:-0500
TZOFFSETTO:-0400
TZNAME:EDT
DTSTART:20290311T070000
END:DAYLIGHT
BEGIN:STANDARD
TZOFFSETFROM:-0400
TZOFFSETTO:-0500
TZNAME:EST
DTSTART:20291104T060000
END:STANDARD
BEGIN:DAYLIGHT
TZOFFSETFROM:-0500
TZOFFSETTO:-0400
TZNAME:EDT
DTSTART:20300310T070000
END:DAYLIGHT
BEGIN:STANDARD
TZOFFSETFROM:-0400
TZOFFSETTO:-0500
TZNAME:EST
DTSTART:20301103T060000
END:STANDARD
BEGIN:DAYLIGHT
TZOFFSETFROM:-0500
TZOFFSETTO:-0400
TZNAME:EDT
DTSTART:20310309T070000
END:DAYLIGHT
BEGIN:STANDARD
TZOFFSETFROM:-0400
TZOFFSETTO:-0500
TZNAME:EST
DTSTART:20311102T060000
END:STANDARD
BEGIN:DAYLIGHT
TZOFFSETFROM:-0500
TZOFFSETTO:-0400
TZNAME:EDT
DTSTART:20320314T070000
END:DAYLIGHT
BEGIN:STANDARD
TZOFFSETFROM:-0400
TZOFFSETTO:-0500
TZNAME:EST
DTSTART:20321107T060000
END:STANDARD
END:VTIMEZONE
BEGIN:VEVENT
DTSTART;TZID=America/New_York:20300215T160000
DTEND;TZID=America/New_York:20300215T210000
DTSTAMP:20260420T160158
CREATED:20260315T060052Z
LAST-MODIFIED:20260316T182925Z
UID:10003079-1897401600-1897419600@dancinggnomebeer.com
SUMMARY:Pittsburgh Sandwich Society
DESCRIPTION:
URL:https://dancinggnomebeer.com/event-detail/pittsburgh-sandwich-society-2/2030-02-15/
LOCATION:1025 Main – Taproom\, 1025 Main Street\, Pittsburgh\, PA\, 15215\, United States
CATEGORIES:Food Trucks
ORGANIZER;CN="Dancing Gnome Beer":MAILTO:info@dancinggnomebeer.com
END:VEVENT
BEGIN:VEVENT
DTSTART;TZID=America/New_York:20300927T160000
DTEND;TZID=America/New_York:20300927T210000
DTSTAMP:20260420T160158
CREATED:20260315T060052Z
LAST-MODIFIED:20260316T182925Z
UID:10004992-1916755200-1916773200@dancinggnomebeer.com
SUMMARY:Pittsburgh Sandwich Society
DESCRIPTION:
URL:https://dancinggnomebeer.com/event-detail/pittsburgh-sandwich-society-2/2030-09-27/
LOCATION:1025 Main – Taproom\, 1025 Main Street\, Pittsburgh\, PA\, 15215\, United States
CATEGORIES:Food Trucks
ORGANIZER;CN="Dancing Gnome Beer":MAILTO:info@dancinggnomebeer.com
END:VEVENT
BEGIN:VEVENT
DTSTART;TZID=America/New_York:20260828T160000
DTEND;TZID=America/New_York:20260828T210000
DTSTAMP:20260420T160158
CREATED:20260315T060052Z
LAST-MODIFIED:20260316T182925Z
UID:10002898-1787932800-1787950800@dancinggnomebeer.com
SUMMARY:Pittsburgh Sandwich Society
DESCRIPTION:
URL:https://dancinggnomebeer.com/event-detail/pittsburgh-sandwich-society-2/2026-08-28/
LOCATION:1025 Main – Taproom\, 1025 Main Street\, Pittsburgh\, PA\, 15215\, United States
CATEGORIES:Food Trucks
ORGANIZER;CN="Dancing Gnome Beer":MAILTO:info@dancinggnomebeer.com
END:VEVENT
BEGIN:VEVENT
DTSTART;TZID=America/New_York:20270409T160000
DTEND;TZID=America/New_York:20270409T210000
DTSTAMP:20260420T160158
CREATED:20260315T060052Z
LAST-MODIFIED:20260316T182925Z
UID:10002930-1807286400-1807304400@dancinggnomebeer.com
SUMMARY:Pittsburgh Sandwich Society
DESCRIPTION:
URL:https://dancinggnomebeer.com/event-detail/pittsburgh-sandwich-society-2/2027-04-09/
LOCATION:1025 Main – Taproom\, 1025 Main Street\, Pittsburgh\, PA\, 15215\, United States
CATEGORIES:Food Trucks
ORGANIZER;CN="Dancing Gnome Beer":MAILTO:info@dancinggnomebeer.com
END:VEVENT
BEGIN:VEVENT
DTSTART;TZID=America/New_York:20271119T160000
DTEND;TZID=America/New_York:20271119T210000
DTSTAMP:20260420T160158
CREATED:20260315T060052Z
LAST-MODIFIED:20260316T182925Z
UID:10002962-1826640000-1826658000@dancinggnomebeer.com
SUMMARY:Pittsburgh Sandwich Society
DESCRIPTION:
URL:https://dancinggnomebeer.com/event-detail/pittsburgh-sandwich-society-2/2027-11-19/
LOCATION:1025 Main – Taproom\, 1025 Main Street\, Pittsburgh\, PA\, 15215\, United States
CATEGORIES:Food Trucks
ORGANIZER;CN="Dancing Gnome Beer":MAILTO:info@dancinggnomebeer.com
END:VEVENT
BEGIN:VEVENT
DTSTART;TZID=America/New_York:20280630T160000
DTEND;TZID=America/New_York:20280630T210000
DTSTAMP:20260420T160158
CREATED:20260315T060052Z
LAST-MODIFIED:20260316T182925Z
UID:10002994-1845993600-1846011600@dancinggnomebeer.com
SUMMARY:Pittsburgh Sandwich Society
DESCRIPTION:
URL:https://dancinggnomebeer.com/event-detail/pittsburgh-sandwich-society-2/2028-06-30/
LOCATION:1025 Main – Taproom\, 1025 Main Street\, Pittsburgh\, PA\, 15215\, United States
CATEGORIES:Food Trucks
ORGANIZER;CN="Dancing Gnome Beer":MAILTO:info@dancinggnomebeer.com
END:VEVENT
BEGIN:VEVENT
DTSTART;TZID=America/New_York:20290209T160000
DTEND;TZID=America/New_York:20290209T210000
DTSTAMP:20260420T160158
CREATED:20260315T060052Z
LAST-MODIFIED:20260316T182925Z
UID:10003026-1865347200-1865365200@dancinggnomebeer.com
SUMMARY:Pittsburgh Sandwich Society
DESCRIPTION:
URL:https://dancinggnomebeer.com/event-detail/pittsburgh-sandwich-society-2/2029-02-09/
LOCATION:1025 Main – Taproom\, 1025 Main Street\, Pittsburgh\, PA\, 15215\, United States
CATEGORIES:Food Trucks
ORGANIZER;CN="Dancing Gnome Beer":MAILTO:info@dancinggnomebeer.com
END:VEVENT
BEGIN:VEVENT
DTSTART;TZID=America/New_York:20290921T160000
DTEND;TZID=America/New_York:20290921T210000
DTSTAMP:20260420T160158
CREATED:20260315T060052Z
LAST-MODIFIED:20260316T182925Z
UID:10003058-1884700800-1884718800@dancinggnomebeer.com
SUMMARY:Pittsburgh Sandwich Society
DESCRIPTION:
URL:https://dancinggnomebeer.com/event-detail/pittsburgh-sandwich-society-2/2029-09-21/
LOCATION:1025 Main – Taproom\, 1025 Main Street\, Pittsburgh\, PA\, 15215\, United States
CATEGORIES:Food Trucks
ORGANIZER;CN="Dancing Gnome Beer":MAILTO:info@dancinggnomebeer.com
END:VEVENT
BEGIN:VEVENT
DTSTART;TZID=America/New_York:20300503T160000
DTEND;TZID=America/New_York:20300503T210000
DTSTAMP:20260420T160158
CREATED:20260315T060052Z
LAST-MODIFIED:20260316T182925Z
UID:10003090-1904054400-1904072400@dancinggnomebeer.com
SUMMARY:Pittsburgh Sandwich Society
DESCRIPTION:
URL:https://dancinggnomebeer.com/event-detail/pittsburgh-sandwich-society-2/2030-05-03/
LOCATION:1025 Main – Taproom\, 1025 Main Street\, Pittsburgh\, PA\, 15215\, United States
CATEGORIES:Food Trucks
ORGANIZER;CN="Dancing Gnome Beer":MAILTO:info@dancinggnomebeer.com
END:VEVENT
BEGIN:VEVENT
DTSTART;TZID=America/New_York:20301213T160000
DTEND;TZID=America/New_York:20301213T210000
DTSTAMP:20260420T160158
CREATED:20260315T060052Z
LAST-MODIFIED:20260316T182925Z
UID:10005013-1923408000-1923426000@dancinggnomebeer.com
SUMMARY:Pittsburgh Sandwich Society
DESCRIPTION:
URL:https://dancinggnomebeer.com/event-detail/pittsburgh-sandwich-society-2/2030-12-13/
LOCATION:1025 Main – Taproom\, 1025 Main Street\, Pittsburgh\, PA\, 15215\, United States
CATEGORIES:Food Trucks
ORGANIZER;CN="Dancing Gnome Beer":MAILTO:info@dancinggnomebeer.com
END:VEVENT
BEGIN:VEVENT
DTSTART;TZID=America/New_York:20261113T160000
DTEND;TZID=America/New_York:20261113T210000
DTSTAMP:20260420T160158
CREATED:20260315T060052Z
LAST-MODIFIED:20260316T182925Z
UID:10002909-1794585600-1794603600@dancinggnomebeer.com
SUMMARY:Pittsburgh Sandwich Society
DESCRIPTION:
URL:https://dancinggnomebeer.com/event-detail/pittsburgh-sandwich-society-2/2026-11-13/
LOCATION:1025 Main – Taproom\, 1025 Main Street\, Pittsburgh\, PA\, 15215\, United States
CATEGORIES:Food Trucks
ORGANIZER;CN="Dancing Gnome Beer":MAILTO:info@dancinggnomebeer.com
END:VEVENT
BEGIN:VEVENT
DTSTART;TZID=America/New_York:20270625T160000
DTEND;TZID=America/New_York:20270625T210000
DTSTAMP:20260420T160158
CREATED:20260315T060052Z
LAST-MODIFIED:20260316T182925Z
UID:10002941-1813939200-1813957200@dancinggnomebeer.com
SUMMARY:Pittsburgh Sandwich Society
DESCRIPTION:
URL:https://dancinggnomebeer.com/event-detail/pittsburgh-sandwich-society-2/2027-06-25/
LOCATION:1025 Main – Taproom\, 1025 Main Street\, Pittsburgh\, PA\, 15215\, United States
CATEGORIES:Food Trucks
ORGANIZER;CN="Dancing Gnome Beer":MAILTO:info@dancinggnomebeer.com
END:VEVENT
BEGIN:VEVENT
DTSTART;TZID=America/New_York:20280204T160000
DTEND;TZID=America/New_York:20280204T210000
DTSTAMP:20260420T160158
CREATED:20260315T060052Z
LAST-MODIFIED:20260316T182925Z
UID:10002973-1833292800-1833310800@dancinggnomebeer.com
SUMMARY:Pittsburgh Sandwich Society
DESCRIPTION:
URL:https://dancinggnomebeer.com/event-detail/pittsburgh-sandwich-society-2/2028-02-04/
LOCATION:1025 Main – Taproom\, 1025 Main Street\, Pittsburgh\, PA\, 15215\, United States
CATEGORIES:Food Trucks
ORGANIZER;CN="Dancing Gnome Beer":MAILTO:info@dancinggnomebeer.com
END:VEVENT
BEGIN:VEVENT
DTSTART;TZID=America/New_York:20280915T160000
DTEND;TZID=America/New_York:20280915T210000
DTSTAMP:20260420T160158
CREATED:20260315T060052Z
LAST-MODIFIED:20260316T182925Z
UID:10003005-1852646400-1852664400@dancinggnomebeer.com
SUMMARY:Pittsburgh Sandwich Society
DESCRIPTION:
URL:https://dancinggnomebeer.com/event-detail/pittsburgh-sandwich-society-2/2028-09-15/
LOCATION:1025 Main – Taproom\, 1025 Main Street\, Pittsburgh\, PA\, 15215\, United States
CATEGORIES:Food Trucks
ORGANIZER;CN="Dancing Gnome Beer":MAILTO:info@dancinggnomebeer.com
END:VEVENT
BEGIN:VEVENT
DTSTART;TZID=America/New_York:20290427T160000
DTEND;TZID=America/New_York:20290427T210000
DTSTAMP:20260420T160158
CREATED:20260315T060052Z
LAST-MODIFIED:20260316T182925Z
UID:10003037-1872000000-1872018000@dancinggnomebeer.com
SUMMARY:Pittsburgh Sandwich Society
DESCRIPTION:
URL:https://dancinggnomebeer.com/event-detail/pittsburgh-sandwich-society-2/2029-04-27/
LOCATION:1025 Main – Taproom\, 1025 Main Street\, Pittsburgh\, PA\, 15215\, United States
CATEGORIES:Food Trucks
ORGANIZER;CN="Dancing Gnome Beer":MAILTO:info@dancinggnomebeer.com
END:VEVENT
BEGIN:VEVENT
DTSTART;TZID=America/New_York:20291207T160000
DTEND;TZID=America/New_York:20291207T210000
DTSTAMP:20260420T160158
CREATED:20260315T060052Z
LAST-MODIFIED:20260316T182925Z
UID:10003069-1891353600-1891371600@dancinggnomebeer.com
SUMMARY:Pittsburgh Sandwich Society
DESCRIPTION:
URL:https://dancinggnomebeer.com/event-detail/pittsburgh-sandwich-society-2/2029-12-07/
LOCATION:1025 Main – Taproom\, 1025 Main Street\, Pittsburgh\, PA\, 15215\, United States
CATEGORIES:Food Trucks
ORGANIZER;CN="Dancing Gnome Beer":MAILTO:info@dancinggnomebeer.com
END:VEVENT
BEGIN:VEVENT
DTSTART;TZID=America/New_York:20300719T160000
DTEND;TZID=America/New_York:20300719T210000
DTSTAMP:20260420T160158
CREATED:20260315T060052Z
LAST-MODIFIED:20260316T182925Z
UID:10003101-1910707200-1910725200@dancinggnomebeer.com
SUMMARY:Pittsburgh Sandwich Society
DESCRIPTION:
URL:https://dancinggnomebeer.com/event-detail/pittsburgh-sandwich-society-2/2030-07-19/
LOCATION:1025 Main – Taproom\, 1025 Main Street\, Pittsburgh\, PA\, 15215\, United States
CATEGORIES:Food Trucks
ORGANIZER;CN="Dancing Gnome Beer":MAILTO:info@dancinggnomebeer.com
END:VEVENT
BEGIN:VEVENT
DTSTART;TZID=America/New_York:20310228T160000
DTEND;TZID=America/New_York:20310228T210000
DTSTAMP:20260420T160158
CREATED:20260315T060052Z
LAST-MODIFIED:20260316T182925Z
UID:10005044-1930060800-1930078800@dancinggnomebeer.com
SUMMARY:Pittsburgh Sandwich Society
DESCRIPTION:
URL:https://dancinggnomebeer.com/event-detail/pittsburgh-sandwich-society-2/2031-02-28/
LOCATION:1025 Main – Taproom\, 1025 Main Street\, Pittsburgh\, PA\, 15215\, United States
CATEGORIES:Food Trucks
ORGANIZER;CN="Dancing Gnome Beer":MAILTO:info@dancinggnomebeer.com
END:VEVENT
BEGIN:VEVENT
DTSTART;TZID=America/New_York:20260619T160000
DTEND;TZID=America/New_York:20260619T210000
DTSTAMP:20260420T160158
CREATED:20260315T060052Z
LAST-MODIFIED:20260316T182925Z
UID:10002888-1781884800-1781902800@dancinggnomebeer.com
SUMMARY:Pittsburgh Sandwich Society
DESCRIPTION:
URL:https://dancinggnomebeer.com/event-detail/pittsburgh-sandwich-society-2/2026-06-19/
LOCATION:1025 Main – Taproom\, 1025 Main Street\, Pittsburgh\, PA\, 15215\, United States
CATEGORIES:Food Trucks
ORGANIZER;CN="Dancing Gnome Beer":MAILTO:info@dancinggnomebeer.com
END:VEVENT
BEGIN:VEVENT
DTSTART;TZID=America/New_York:20270129T160000
DTEND;TZID=America/New_York:20270129T210000
DTSTAMP:20260420T160158
CREATED:20260315T060052Z
LAST-MODIFIED:20260316T182925Z
UID:10002920-1801238400-1801256400@dancinggnomebeer.com
SUMMARY:Pittsburgh Sandwich Society
DESCRIPTION:
URL:https://dancinggnomebeer.com/event-detail/pittsburgh-sandwich-society-2/2027-01-29/
LOCATION:1025 Main – Taproom\, 1025 Main Street\, Pittsburgh\, PA\, 15215\, United States
CATEGORIES:Food Trucks
ORGANIZER;CN="Dancing Gnome Beer":MAILTO:info@dancinggnomebeer.com
END:VEVENT
BEGIN:VEVENT
DTSTART;TZID=America/New_York:20270910T160000
DTEND;TZID=America/New_York:20270910T210000
DTSTAMP:20260420T160158
CREATED:20260315T060052Z
LAST-MODIFIED:20260316T182925Z
UID:10002952-1820592000-1820610000@dancinggnomebeer.com
SUMMARY:Pittsburgh Sandwich Society
DESCRIPTION:
URL:https://dancinggnomebeer.com/event-detail/pittsburgh-sandwich-society-2/2027-09-10/
LOCATION:1025 Main – Taproom\, 1025 Main Street\, Pittsburgh\, PA\, 15215\, United States
CATEGORIES:Food Trucks
ORGANIZER;CN="Dancing Gnome Beer":MAILTO:info@dancinggnomebeer.com
END:VEVENT
BEGIN:VEVENT
DTSTART;TZID=America/New_York:20280421T160000
DTEND;TZID=America/New_York:20280421T210000
DTSTAMP:20260420T160158
CREATED:20260315T060052Z
LAST-MODIFIED:20260316T182925Z
UID:10002984-1839945600-1839963600@dancinggnomebeer.com
SUMMARY:Pittsburgh Sandwich Society
DESCRIPTION:
URL:https://dancinggnomebeer.com/event-detail/pittsburgh-sandwich-society-2/2028-04-21/
LOCATION:1025 Main – Taproom\, 1025 Main Street\, Pittsburgh\, PA\, 15215\, United States
CATEGORIES:Food Trucks
ORGANIZER;CN="Dancing Gnome Beer":MAILTO:info@dancinggnomebeer.com
END:VEVENT
BEGIN:VEVENT
DTSTART;TZID=America/New_York:20281201T160000
DTEND;TZID=America/New_York:20281201T210000
DTSTAMP:20260420T160158
CREATED:20260315T060052Z
LAST-MODIFIED:20260316T182925Z
UID:10003016-1859299200-1859317200@dancinggnomebeer.com
SUMMARY:Pittsburgh Sandwich Society
DESCRIPTION:
URL:https://dancinggnomebeer.com/event-detail/pittsburgh-sandwich-society-2/2028-12-01/
LOCATION:1025 Main – Taproom\, 1025 Main Street\, Pittsburgh\, PA\, 15215\, United States
CATEGORIES:Food Trucks
ORGANIZER;CN="Dancing Gnome Beer":MAILTO:info@dancinggnomebeer.com
END:VEVENT
BEGIN:VEVENT
DTSTART;TZID=America/New_York:20290713T160000
DTEND;TZID=America/New_York:20290713T210000
DTSTAMP:20260420T160158
CREATED:20260315T060052Z
LAST-MODIFIED:20260316T182925Z
UID:10003048-1878652800-1878670800@dancinggnomebeer.com
SUMMARY:Pittsburgh Sandwich Society
DESCRIPTION:
URL:https://dancinggnomebeer.com/event-detail/pittsburgh-sandwich-society-2/2029-07-13/
LOCATION:1025 Main – Taproom\, 1025 Main Street\, Pittsburgh\, PA\, 15215\, United States
CATEGORIES:Food Trucks
ORGANIZER;CN="Dancing Gnome Beer":MAILTO:info@dancinggnomebeer.com
END:VEVENT
BEGIN:VEVENT
DTSTART;TZID=America/New_York:20300222T160000
DTEND;TZID=America/New_York:20300222T210000
DTSTAMP:20260420T160158
CREATED:20260315T060052Z
LAST-MODIFIED:20260316T182925Z
UID:10003080-1898006400-1898024400@dancinggnomebeer.com
SUMMARY:Pittsburgh Sandwich Society
DESCRIPTION:
URL:https://dancinggnomebeer.com/event-detail/pittsburgh-sandwich-society-2/2030-02-22/
LOCATION:1025 Main – Taproom\, 1025 Main Street\, Pittsburgh\, PA\, 15215\, United States
CATEGORIES:Food Trucks
ORGANIZER;CN="Dancing Gnome Beer":MAILTO:info@dancinggnomebeer.com
END:VEVENT
BEGIN:VEVENT
DTSTART;TZID=America/New_York:20301004T160000
DTEND;TZID=America/New_York:20301004T210000
DTSTAMP:20260420T160158
CREATED:20260315T060052Z
LAST-MODIFIED:20260316T182925Z
UID:10004993-1917360000-1917378000@dancinggnomebeer.com
SUMMARY:Pittsburgh Sandwich Society
DESCRIPTION:
URL:https://dancinggnomebeer.com/event-detail/pittsburgh-sandwich-society-2/2030-10-04/
LOCATION:1025 Main – Taproom\, 1025 Main Street\, Pittsburgh\, PA\, 15215\, United States
CATEGORIES:Food Trucks
ORGANIZER;CN="Dancing Gnome Beer":MAILTO:info@dancinggnomebeer.com
END:VEVENT
BEGIN:VEVENT
DTSTART;TZID=America/New_York:20260904T160000
DTEND;TZID=America/New_York:20260904T210000
DTSTAMP:20260420T160158
CREATED:20260315T060052Z
LAST-MODIFIED:20260316T182925Z
UID:10002899-1788537600-1788555600@dancinggnomebeer.com
SUMMARY:Pittsburgh Sandwich Society
DESCRIPTION:
URL:https://dancinggnomebeer.com/event-detail/pittsburgh-sandwich-society-2/2026-09-04/
LOCATION:1025 Main – Taproom\, 1025 Main Street\, Pittsburgh\, PA\, 15215\, United States
CATEGORIES:Food Trucks
ORGANIZER;CN="Dancing Gnome Beer":MAILTO:info@dancinggnomebeer.com
END:VEVENT
BEGIN:VEVENT
DTSTART;TZID=America/New_York:20270416T160000
DTEND;TZID=America/New_York:20270416T210000
DTSTAMP:20260420T160158
CREATED:20260315T060052Z
LAST-MODIFIED:20260316T182925Z
UID:10002931-1807891200-1807909200@dancinggnomebeer.com
SUMMARY:Pittsburgh Sandwich Society
DESCRIPTION:
URL:https://dancinggnomebeer.com/event-detail/pittsburgh-sandwich-society-2/2027-04-16/
LOCATION:1025 Main – Taproom\, 1025 Main Street\, Pittsburgh\, PA\, 15215\, United States
CATEGORIES:Food Trucks
ORGANIZER;CN="Dancing Gnome Beer":MAILTO:info@dancinggnomebeer.com
END:VEVENT
BEGIN:VEVENT
DTSTART;TZID=America/New_York:20271126T160000
DTEND;TZID=America/New_York:20271126T210000
DTSTAMP:20260420T160158
CREATED:20260315T060052Z
LAST-MODIFIED:20260316T182925Z
UID:10002963-1827244800-1827262800@dancinggnomebeer.com
SUMMARY:Pittsburgh Sandwich Society
DESCRIPTION:
URL:https://dancinggnomebeer.com/event-detail/pittsburgh-sandwich-society-2/2027-11-26/
LOCATION:1025 Main – Taproom\, 1025 Main Street\, Pittsburgh\, PA\, 15215\, United States
CATEGORIES:Food Trucks
ORGANIZER;CN="Dancing Gnome Beer":MAILTO:info@dancinggnomebeer.com
END:VEVENT
BEGIN:VEVENT
DTSTART;TZID=America/New_York:20280707T160000
DTEND;TZID=America/New_York:20280707T210000
DTSTAMP:20260420T160158
CREATED:20260315T060052Z
LAST-MODIFIED:20260316T182925Z
UID:10002995-1846598400-1846616400@dancinggnomebeer.com
SUMMARY:Pittsburgh Sandwich Society
DESCRIPTION:
URL:https://dancinggnomebeer.com/event-detail/pittsburgh-sandwich-society-2/2028-07-07/
LOCATION:1025 Main – Taproom\, 1025 Main Street\, Pittsburgh\, PA\, 15215\, United States
CATEGORIES:Food Trucks
ORGANIZER;CN="Dancing Gnome Beer":MAILTO:info@dancinggnomebeer.com
END:VEVENT
END:VCALENDAR