BEGIN:VCALENDAR
VERSION:2.0
PRODID:-//Dancing Gnome Brewery - ECPv6.15.12.2//NONSGML v1.0//EN
CALSCALE:GREGORIAN
METHOD:PUBLISH
X-WR-CALNAME:Dancing Gnome Brewery
X-ORIGINAL-URL:https://dancinggnomebeer.com
X-WR-CALDESC:Events for Dancing Gnome Brewery
REFRESH-INTERVAL;VALUE=DURATION:PT1H
X-Robots-Tag:noindex
X-PUBLISHED-TTL:PT1H
BEGIN:VTIMEZONE
TZID:America/New_York
BEGIN:DAYLIGHT
TZOFFSETFROM:-0500
TZOFFSETTO:-0400
TZNAME:EDT
DTSTART:20250309T070000
END:DAYLIGHT
BEGIN:STANDARD
TZOFFSETFROM:-0400
TZOFFSETTO:-0500
TZNAME:EST
DTSTART:20251102T060000
END:STANDARD
BEGIN:DAYLIGHT
TZOFFSETFROM:-0500
TZOFFSETTO:-0400
TZNAME:EDT
DTSTART:20260308T070000
END:DAYLIGHT
BEGIN:STANDARD
TZOFFSETFROM:-0400
TZOFFSETTO:-0500
TZNAME:EST
DTSTART:20261101T060000
END:STANDARD
BEGIN:DAYLIGHT
TZOFFSETFROM:-0500
TZOFFSETTO:-0400
TZNAME:EDT
DTSTART:20270314T070000
END:DAYLIGHT
BEGIN:STANDARD
TZOFFSETFROM:-0400
TZOFFSETTO:-0500
TZNAME:EST
DTSTART:20271107T060000
END:STANDARD
BEGIN:DAYLIGHT
TZOFFSETFROM:-0500
TZOFFSETTO:-0400
TZNAME:EDT
DTSTART:20280312T070000
END:DAYLIGHT
BEGIN:STANDARD
TZOFFSETFROM:-0400
TZOFFSETTO:-0500
TZNAME:EST
DTSTART:20281105T060000
END:STANDARD
BEGIN:DAYLIGHT
TZOFFSETFROM:-0500
TZOFFSETTO:-0400
TZNAME:EDT
DTSTART:20290311T070000
END:DAYLIGHT
BEGIN:STANDARD
TZOFFSETFROM:-0400
TZOFFSETTO:-0500
TZNAME:EST
DTSTART:20291104T060000
END:STANDARD
BEGIN:DAYLIGHT
TZOFFSETFROM:-0500
TZOFFSETTO:-0400
TZNAME:EDT
DTSTART:20300310T070000
END:DAYLIGHT
BEGIN:STANDARD
TZOFFSETFROM:-0400
TZOFFSETTO:-0500
TZNAME:EST
DTSTART:20301103T060000
END:STANDARD
BEGIN:DAYLIGHT
TZOFFSETFROM:-0500
TZOFFSETTO:-0400
TZNAME:EDT
DTSTART:20310309T070000
END:DAYLIGHT
BEGIN:STANDARD
TZOFFSETFROM:-0400
TZOFFSETTO:-0500
TZNAME:EST
DTSTART:20311102T060000
END:STANDARD
BEGIN:DAYLIGHT
TZOFFSETFROM:-0500
TZOFFSETTO:-0400
TZNAME:EDT
DTSTART:20320314T070000
END:DAYLIGHT
BEGIN:STANDARD
TZOFFSETFROM:-0400
TZOFFSETTO:-0500
TZNAME:EST
DTSTART:20321107T060000
END:STANDARD
END:VTIMEZONE
BEGIN:VEVENT
DTSTART;TZID=America/New_York:20300201T160000
DTEND;TZID=America/New_York:20300201T210000
DTSTAMP:20260420T101633
CREATED:20260315T060052Z
LAST-MODIFIED:20260316T182925Z
UID:10003077-1896192000-1896210000@dancinggnomebeer.com
SUMMARY:Pittsburgh Sandwich Society
DESCRIPTION:
URL:https://dancinggnomebeer.com/event-detail/pittsburgh-sandwich-society-2/2030-02-01/
LOCATION:1025 Main – Taproom\, 1025 Main Street\, Pittsburgh\, PA\, 15215\, United States
CATEGORIES:Food Trucks
ORGANIZER;CN="Dancing Gnome Beer":MAILTO:info@dancinggnomebeer.com
END:VEVENT
BEGIN:VEVENT
DTSTART;TZID=America/New_York:20300913T160000
DTEND;TZID=America/New_York:20300913T210000
DTSTAMP:20260420T101633
CREATED:20260315T060052Z
LAST-MODIFIED:20260316T182925Z
UID:10004990-1915545600-1915563600@dancinggnomebeer.com
SUMMARY:Pittsburgh Sandwich Society
DESCRIPTION:
URL:https://dancinggnomebeer.com/event-detail/pittsburgh-sandwich-society-2/2030-09-13/
LOCATION:1025 Main – Taproom\, 1025 Main Street\, Pittsburgh\, PA\, 15215\, United States
CATEGORIES:Food Trucks
ORGANIZER;CN="Dancing Gnome Beer":MAILTO:info@dancinggnomebeer.com
END:VEVENT
BEGIN:VEVENT
DTSTART;TZID=America/New_York:20260814T160000
DTEND;TZID=America/New_York:20260814T210000
DTSTAMP:20260420T101633
CREATED:20260315T060052Z
LAST-MODIFIED:20260316T182925Z
UID:10002896-1786723200-1786741200@dancinggnomebeer.com
SUMMARY:Pittsburgh Sandwich Society
DESCRIPTION:
URL:https://dancinggnomebeer.com/event-detail/pittsburgh-sandwich-society-2/2026-08-14/
LOCATION:1025 Main – Taproom\, 1025 Main Street\, Pittsburgh\, PA\, 15215\, United States
CATEGORIES:Food Trucks
ORGANIZER;CN="Dancing Gnome Beer":MAILTO:info@dancinggnomebeer.com
END:VEVENT
BEGIN:VEVENT
DTSTART;TZID=America/New_York:20270326T160000
DTEND;TZID=America/New_York:20270326T210000
DTSTAMP:20260420T101633
CREATED:20260315T060052Z
LAST-MODIFIED:20260316T182925Z
UID:10002928-1806076800-1806094800@dancinggnomebeer.com
SUMMARY:Pittsburgh Sandwich Society
DESCRIPTION:
URL:https://dancinggnomebeer.com/event-detail/pittsburgh-sandwich-society-2/2027-03-26/
LOCATION:1025 Main – Taproom\, 1025 Main Street\, Pittsburgh\, PA\, 15215\, United States
CATEGORIES:Food Trucks
ORGANIZER;CN="Dancing Gnome Beer":MAILTO:info@dancinggnomebeer.com
END:VEVENT
BEGIN:VEVENT
DTSTART;TZID=America/New_York:20271105T160000
DTEND;TZID=America/New_York:20271105T210000
DTSTAMP:20260420T101633
CREATED:20260315T060052Z
LAST-MODIFIED:20260316T182925Z
UID:10002960-1825430400-1825448400@dancinggnomebeer.com
SUMMARY:Pittsburgh Sandwich Society
DESCRIPTION:
URL:https://dancinggnomebeer.com/event-detail/pittsburgh-sandwich-society-2/2027-11-05/
LOCATION:1025 Main – Taproom\, 1025 Main Street\, Pittsburgh\, PA\, 15215\, United States
CATEGORIES:Food Trucks
ORGANIZER;CN="Dancing Gnome Beer":MAILTO:info@dancinggnomebeer.com
END:VEVENT
BEGIN:VEVENT
DTSTART;TZID=America/New_York:20280616T160000
DTEND;TZID=America/New_York:20280616T210000
DTSTAMP:20260420T101633
CREATED:20260315T060052Z
LAST-MODIFIED:20260316T182925Z
UID:10002992-1844784000-1844802000@dancinggnomebeer.com
SUMMARY:Pittsburgh Sandwich Society
DESCRIPTION:
URL:https://dancinggnomebeer.com/event-detail/pittsburgh-sandwich-society-2/2028-06-16/
LOCATION:1025 Main – Taproom\, 1025 Main Street\, Pittsburgh\, PA\, 15215\, United States
CATEGORIES:Food Trucks
ORGANIZER;CN="Dancing Gnome Beer":MAILTO:info@dancinggnomebeer.com
END:VEVENT
BEGIN:VEVENT
DTSTART;TZID=America/New_York:20290126T160000
DTEND;TZID=America/New_York:20290126T210000
DTSTAMP:20260420T101633
CREATED:20260315T060052Z
LAST-MODIFIED:20260316T182925Z
UID:10003024-1864137600-1864155600@dancinggnomebeer.com
SUMMARY:Pittsburgh Sandwich Society
DESCRIPTION:
URL:https://dancinggnomebeer.com/event-detail/pittsburgh-sandwich-society-2/2029-01-26/
LOCATION:1025 Main – Taproom\, 1025 Main Street\, Pittsburgh\, PA\, 15215\, United States
CATEGORIES:Food Trucks
ORGANIZER;CN="Dancing Gnome Beer":MAILTO:info@dancinggnomebeer.com
END:VEVENT
BEGIN:VEVENT
DTSTART;TZID=America/New_York:20290907T160000
DTEND;TZID=America/New_York:20290907T210000
DTSTAMP:20260420T101633
CREATED:20260315T060052Z
LAST-MODIFIED:20260316T182925Z
UID:10003056-1883491200-1883509200@dancinggnomebeer.com
SUMMARY:Pittsburgh Sandwich Society
DESCRIPTION:
URL:https://dancinggnomebeer.com/event-detail/pittsburgh-sandwich-society-2/2029-09-07/
LOCATION:1025 Main – Taproom\, 1025 Main Street\, Pittsburgh\, PA\, 15215\, United States
CATEGORIES:Food Trucks
ORGANIZER;CN="Dancing Gnome Beer":MAILTO:info@dancinggnomebeer.com
END:VEVENT
BEGIN:VEVENT
DTSTART;TZID=America/New_York:20300419T160000
DTEND;TZID=America/New_York:20300419T210000
DTSTAMP:20260420T101633
CREATED:20260315T060052Z
LAST-MODIFIED:20260316T182925Z
UID:10003088-1902844800-1902862800@dancinggnomebeer.com
SUMMARY:Pittsburgh Sandwich Society
DESCRIPTION:
URL:https://dancinggnomebeer.com/event-detail/pittsburgh-sandwich-society-2/2030-04-19/
LOCATION:1025 Main – Taproom\, 1025 Main Street\, Pittsburgh\, PA\, 15215\, United States
CATEGORIES:Food Trucks
ORGANIZER;CN="Dancing Gnome Beer":MAILTO:info@dancinggnomebeer.com
END:VEVENT
BEGIN:VEVENT
DTSTART;TZID=America/New_York:20301129T160000
DTEND;TZID=America/New_York:20301129T210000
DTSTAMP:20260420T101633
CREATED:20260315T060052Z
LAST-MODIFIED:20260316T182925Z
UID:10005001-1922198400-1922216400@dancinggnomebeer.com
SUMMARY:Pittsburgh Sandwich Society
DESCRIPTION:
URL:https://dancinggnomebeer.com/event-detail/pittsburgh-sandwich-society-2/2030-11-29/
LOCATION:1025 Main – Taproom\, 1025 Main Street\, Pittsburgh\, PA\, 15215\, United States
CATEGORIES:Food Trucks
ORGANIZER;CN="Dancing Gnome Beer":MAILTO:info@dancinggnomebeer.com
END:VEVENT
BEGIN:VEVENT
DTSTART;TZID=America/New_York:20261030T160000
DTEND;TZID=America/New_York:20261030T210000
DTSTAMP:20260420T101633
CREATED:20260315T060052Z
LAST-MODIFIED:20260316T182925Z
UID:10002907-1793376000-1793394000@dancinggnomebeer.com
SUMMARY:Pittsburgh Sandwich Society
DESCRIPTION:
URL:https://dancinggnomebeer.com/event-detail/pittsburgh-sandwich-society-2/2026-10-30/
LOCATION:1025 Main – Taproom\, 1025 Main Street\, Pittsburgh\, PA\, 15215\, United States
CATEGORIES:Food Trucks
ORGANIZER;CN="Dancing Gnome Beer":MAILTO:info@dancinggnomebeer.com
END:VEVENT
BEGIN:VEVENT
DTSTART;TZID=America/New_York:20270611T160000
DTEND;TZID=America/New_York:20270611T210000
DTSTAMP:20260420T101633
CREATED:20260315T060052Z
LAST-MODIFIED:20260316T182925Z
UID:10002939-1812729600-1812747600@dancinggnomebeer.com
SUMMARY:Pittsburgh Sandwich Society
DESCRIPTION:
URL:https://dancinggnomebeer.com/event-detail/pittsburgh-sandwich-society-2/2027-06-11/
LOCATION:1025 Main – Taproom\, 1025 Main Street\, Pittsburgh\, PA\, 15215\, United States
CATEGORIES:Food Trucks
ORGANIZER;CN="Dancing Gnome Beer":MAILTO:info@dancinggnomebeer.com
END:VEVENT
BEGIN:VEVENT
DTSTART;TZID=America/New_York:20280121T160000
DTEND;TZID=America/New_York:20280121T210000
DTSTAMP:20260420T101633
CREATED:20260315T060052Z
LAST-MODIFIED:20260316T182925Z
UID:10002971-1832083200-1832101200@dancinggnomebeer.com
SUMMARY:Pittsburgh Sandwich Society
DESCRIPTION:
URL:https://dancinggnomebeer.com/event-detail/pittsburgh-sandwich-society-2/2028-01-21/
LOCATION:1025 Main – Taproom\, 1025 Main Street\, Pittsburgh\, PA\, 15215\, United States
CATEGORIES:Food Trucks
ORGANIZER;CN="Dancing Gnome Beer":MAILTO:info@dancinggnomebeer.com
END:VEVENT
BEGIN:VEVENT
DTSTART;TZID=America/New_York:20280901T160000
DTEND;TZID=America/New_York:20280901T210000
DTSTAMP:20260420T101633
CREATED:20260315T060052Z
LAST-MODIFIED:20260316T182925Z
UID:10003003-1851436800-1851454800@dancinggnomebeer.com
SUMMARY:Pittsburgh Sandwich Society
DESCRIPTION:
URL:https://dancinggnomebeer.com/event-detail/pittsburgh-sandwich-society-2/2028-09-01/
LOCATION:1025 Main – Taproom\, 1025 Main Street\, Pittsburgh\, PA\, 15215\, United States
CATEGORIES:Food Trucks
ORGANIZER;CN="Dancing Gnome Beer":MAILTO:info@dancinggnomebeer.com
END:VEVENT
BEGIN:VEVENT
DTSTART;TZID=America/New_York:20290413T160000
DTEND;TZID=America/New_York:20290413T210000
DTSTAMP:20260420T101633
CREATED:20260315T060052Z
LAST-MODIFIED:20260316T182925Z
UID:10003035-1870790400-1870808400@dancinggnomebeer.com
SUMMARY:Pittsburgh Sandwich Society
DESCRIPTION:
URL:https://dancinggnomebeer.com/event-detail/pittsburgh-sandwich-society-2/2029-04-13/
LOCATION:1025 Main – Taproom\, 1025 Main Street\, Pittsburgh\, PA\, 15215\, United States
CATEGORIES:Food Trucks
ORGANIZER;CN="Dancing Gnome Beer":MAILTO:info@dancinggnomebeer.com
END:VEVENT
BEGIN:VEVENT
DTSTART;TZID=America/New_York:20291123T160000
DTEND;TZID=America/New_York:20291123T210000
DTSTAMP:20260420T101633
CREATED:20260315T060052Z
LAST-MODIFIED:20260316T182925Z
UID:10003067-1890144000-1890162000@dancinggnomebeer.com
SUMMARY:Pittsburgh Sandwich Society
DESCRIPTION:
URL:https://dancinggnomebeer.com/event-detail/pittsburgh-sandwich-society-2/2029-11-23/
LOCATION:1025 Main – Taproom\, 1025 Main Street\, Pittsburgh\, PA\, 15215\, United States
CATEGORIES:Food Trucks
ORGANIZER;CN="Dancing Gnome Beer":MAILTO:info@dancinggnomebeer.com
END:VEVENT
BEGIN:VEVENT
DTSTART;TZID=America/New_York:20300705T160000
DTEND;TZID=America/New_York:20300705T210000
DTSTAMP:20260420T101633
CREATED:20260315T060052Z
LAST-MODIFIED:20260316T182925Z
UID:10003099-1909497600-1909515600@dancinggnomebeer.com
SUMMARY:Pittsburgh Sandwich Society
DESCRIPTION:
URL:https://dancinggnomebeer.com/event-detail/pittsburgh-sandwich-society-2/2030-07-05/
LOCATION:1025 Main – Taproom\, 1025 Main Street\, Pittsburgh\, PA\, 15215\, United States
CATEGORIES:Food Trucks
ORGANIZER;CN="Dancing Gnome Beer":MAILTO:info@dancinggnomebeer.com
END:VEVENT
BEGIN:VEVENT
DTSTART;TZID=America/New_York:20310214T160000
DTEND;TZID=America/New_York:20310214T210000
DTSTAMP:20260420T101633
CREATED:20260315T060052Z
LAST-MODIFIED:20260316T182925Z
UID:10005042-1928851200-1928869200@dancinggnomebeer.com
SUMMARY:Pittsburgh Sandwich Society
DESCRIPTION:
URL:https://dancinggnomebeer.com/event-detail/pittsburgh-sandwich-society-2/2031-02-14/
LOCATION:1025 Main – Taproom\, 1025 Main Street\, Pittsburgh\, PA\, 15215\, United States
CATEGORIES:Food Trucks
ORGANIZER;CN="Dancing Gnome Beer":MAILTO:info@dancinggnomebeer.com
END:VEVENT
BEGIN:VEVENT
DTSTART;TZID=America/New_York:20260605T160000
DTEND;TZID=America/New_York:20260605T210000
DTSTAMP:20260420T101633
CREATED:20260315T060052Z
LAST-MODIFIED:20260316T182925Z
UID:10002886-1780675200-1780693200@dancinggnomebeer.com
SUMMARY:Pittsburgh Sandwich Society
DESCRIPTION:
URL:https://dancinggnomebeer.com/event-detail/pittsburgh-sandwich-society-2/2026-06-05/
LOCATION:1025 Main – Taproom\, 1025 Main Street\, Pittsburgh\, PA\, 15215\, United States
CATEGORIES:Food Trucks
ORGANIZER;CN="Dancing Gnome Beer":MAILTO:info@dancinggnomebeer.com
END:VEVENT
BEGIN:VEVENT
DTSTART;TZID=America/New_York:20270115T160000
DTEND;TZID=America/New_York:20270115T210000
DTSTAMP:20260420T101633
CREATED:20260315T060052Z
LAST-MODIFIED:20260316T182925Z
UID:10002918-1800028800-1800046800@dancinggnomebeer.com
SUMMARY:Pittsburgh Sandwich Society
DESCRIPTION:
URL:https://dancinggnomebeer.com/event-detail/pittsburgh-sandwich-society-2/2027-01-15/
LOCATION:1025 Main – Taproom\, 1025 Main Street\, Pittsburgh\, PA\, 15215\, United States
CATEGORIES:Food Trucks
ORGANIZER;CN="Dancing Gnome Beer":MAILTO:info@dancinggnomebeer.com
END:VEVENT
BEGIN:VEVENT
DTSTART;TZID=America/New_York:20270827T160000
DTEND;TZID=America/New_York:20270827T210000
DTSTAMP:20260420T101633
CREATED:20260315T060052Z
LAST-MODIFIED:20260316T182925Z
UID:10002950-1819382400-1819400400@dancinggnomebeer.com
SUMMARY:Pittsburgh Sandwich Society
DESCRIPTION:
URL:https://dancinggnomebeer.com/event-detail/pittsburgh-sandwich-society-2/2027-08-27/
LOCATION:1025 Main – Taproom\, 1025 Main Street\, Pittsburgh\, PA\, 15215\, United States
CATEGORIES:Food Trucks
ORGANIZER;CN="Dancing Gnome Beer":MAILTO:info@dancinggnomebeer.com
END:VEVENT
BEGIN:VEVENT
DTSTART;TZID=America/New_York:20280407T160000
DTEND;TZID=America/New_York:20280407T210000
DTSTAMP:20260420T101633
CREATED:20260315T060052Z
LAST-MODIFIED:20260316T182925Z
UID:10002982-1838736000-1838754000@dancinggnomebeer.com
SUMMARY:Pittsburgh Sandwich Society
DESCRIPTION:
URL:https://dancinggnomebeer.com/event-detail/pittsburgh-sandwich-society-2/2028-04-07/
LOCATION:1025 Main – Taproom\, 1025 Main Street\, Pittsburgh\, PA\, 15215\, United States
CATEGORIES:Food Trucks
ORGANIZER;CN="Dancing Gnome Beer":MAILTO:info@dancinggnomebeer.com
END:VEVENT
BEGIN:VEVENT
DTSTART;TZID=America/New_York:20281117T160000
DTEND;TZID=America/New_York:20281117T210000
DTSTAMP:20260420T101633
CREATED:20260315T060052Z
LAST-MODIFIED:20260316T182925Z
UID:10003014-1858089600-1858107600@dancinggnomebeer.com
SUMMARY:Pittsburgh Sandwich Society
DESCRIPTION:
URL:https://dancinggnomebeer.com/event-detail/pittsburgh-sandwich-society-2/2028-11-17/
LOCATION:1025 Main – Taproom\, 1025 Main Street\, Pittsburgh\, PA\, 15215\, United States
CATEGORIES:Food Trucks
ORGANIZER;CN="Dancing Gnome Beer":MAILTO:info@dancinggnomebeer.com
END:VEVENT
BEGIN:VEVENT
DTSTART;TZID=America/New_York:20290629T160000
DTEND;TZID=America/New_York:20290629T210000
DTSTAMP:20260420T101633
CREATED:20260315T060052Z
LAST-MODIFIED:20260316T182925Z
UID:10003046-1877443200-1877461200@dancinggnomebeer.com
SUMMARY:Pittsburgh Sandwich Society
DESCRIPTION:
URL:https://dancinggnomebeer.com/event-detail/pittsburgh-sandwich-society-2/2029-06-29/
LOCATION:1025 Main – Taproom\, 1025 Main Street\, Pittsburgh\, PA\, 15215\, United States
CATEGORIES:Food Trucks
ORGANIZER;CN="Dancing Gnome Beer":MAILTO:info@dancinggnomebeer.com
END:VEVENT
BEGIN:VEVENT
DTSTART;TZID=America/New_York:20300208T160000
DTEND;TZID=America/New_York:20300208T210000
DTSTAMP:20260420T101633
CREATED:20260315T060052Z
LAST-MODIFIED:20260316T182925Z
UID:10003078-1896796800-1896814800@dancinggnomebeer.com
SUMMARY:Pittsburgh Sandwich Society
DESCRIPTION:
URL:https://dancinggnomebeer.com/event-detail/pittsburgh-sandwich-society-2/2030-02-08/
LOCATION:1025 Main – Taproom\, 1025 Main Street\, Pittsburgh\, PA\, 15215\, United States
CATEGORIES:Food Trucks
ORGANIZER;CN="Dancing Gnome Beer":MAILTO:info@dancinggnomebeer.com
END:VEVENT
BEGIN:VEVENT
DTSTART;TZID=America/New_York:20300920T160000
DTEND;TZID=America/New_York:20300920T210000
DTSTAMP:20260420T101633
CREATED:20260315T060052Z
LAST-MODIFIED:20260316T182925Z
UID:10004991-1916150400-1916168400@dancinggnomebeer.com
SUMMARY:Pittsburgh Sandwich Society
DESCRIPTION:
URL:https://dancinggnomebeer.com/event-detail/pittsburgh-sandwich-society-2/2030-09-20/
LOCATION:1025 Main – Taproom\, 1025 Main Street\, Pittsburgh\, PA\, 15215\, United States
CATEGORIES:Food Trucks
ORGANIZER;CN="Dancing Gnome Beer":MAILTO:info@dancinggnomebeer.com
END:VEVENT
BEGIN:VEVENT
DTSTART;TZID=America/New_York:20260821T160000
DTEND;TZID=America/New_York:20260821T210000
DTSTAMP:20260420T101633
CREATED:20260315T060052Z
LAST-MODIFIED:20260316T182925Z
UID:10002897-1787328000-1787346000@dancinggnomebeer.com
SUMMARY:Pittsburgh Sandwich Society
DESCRIPTION:
URL:https://dancinggnomebeer.com/event-detail/pittsburgh-sandwich-society-2/2026-08-21/
LOCATION:1025 Main – Taproom\, 1025 Main Street\, Pittsburgh\, PA\, 15215\, United States
CATEGORIES:Food Trucks
ORGANIZER;CN="Dancing Gnome Beer":MAILTO:info@dancinggnomebeer.com
END:VEVENT
BEGIN:VEVENT
DTSTART;TZID=America/New_York:20270402T160000
DTEND;TZID=America/New_York:20270402T210000
DTSTAMP:20260420T101633
CREATED:20260315T060052Z
LAST-MODIFIED:20260316T182925Z
UID:10002929-1806681600-1806699600@dancinggnomebeer.com
SUMMARY:Pittsburgh Sandwich Society
DESCRIPTION:
URL:https://dancinggnomebeer.com/event-detail/pittsburgh-sandwich-society-2/2027-04-02/
LOCATION:1025 Main – Taproom\, 1025 Main Street\, Pittsburgh\, PA\, 15215\, United States
CATEGORIES:Food Trucks
ORGANIZER;CN="Dancing Gnome Beer":MAILTO:info@dancinggnomebeer.com
END:VEVENT
BEGIN:VEVENT
DTSTART;TZID=America/New_York:20271112T160000
DTEND;TZID=America/New_York:20271112T210000
DTSTAMP:20260420T101633
CREATED:20260315T060052Z
LAST-MODIFIED:20260316T182925Z
UID:10002961-1826035200-1826053200@dancinggnomebeer.com
SUMMARY:Pittsburgh Sandwich Society
DESCRIPTION:
URL:https://dancinggnomebeer.com/event-detail/pittsburgh-sandwich-society-2/2027-11-12/
LOCATION:1025 Main – Taproom\, 1025 Main Street\, Pittsburgh\, PA\, 15215\, United States
CATEGORIES:Food Trucks
ORGANIZER;CN="Dancing Gnome Beer":MAILTO:info@dancinggnomebeer.com
END:VEVENT
BEGIN:VEVENT
DTSTART;TZID=America/New_York:20280623T160000
DTEND;TZID=America/New_York:20280623T210000
DTSTAMP:20260420T101633
CREATED:20260315T060052Z
LAST-MODIFIED:20260316T182925Z
UID:10002993-1845388800-1845406800@dancinggnomebeer.com
SUMMARY:Pittsburgh Sandwich Society
DESCRIPTION:
URL:https://dancinggnomebeer.com/event-detail/pittsburgh-sandwich-society-2/2028-06-23/
LOCATION:1025 Main – Taproom\, 1025 Main Street\, Pittsburgh\, PA\, 15215\, United States
CATEGORIES:Food Trucks
ORGANIZER;CN="Dancing Gnome Beer":MAILTO:info@dancinggnomebeer.com
END:VEVENT
END:VCALENDAR