BEGIN:VCALENDAR
VERSION:2.0
PRODID:-//Dancing Gnome Brewery - ECPv6.15.12.2//NONSGML v1.0//EN
CALSCALE:GREGORIAN
METHOD:PUBLISH
X-ORIGINAL-URL:https://dancinggnomebeer.com
X-WR-CALDESC:Events for Dancing Gnome Brewery
REFRESH-INTERVAL;VALUE=DURATION:PT1H
X-Robots-Tag:noindex
X-PUBLISHED-TTL:PT1H
BEGIN:VTIMEZONE
TZID:America/New_York
BEGIN:DAYLIGHT
TZOFFSETFROM:-0500
TZOFFSETTO:-0400
TZNAME:EDT
DTSTART:20240310T070000
END:DAYLIGHT
BEGIN:STANDARD
TZOFFSETFROM:-0400
TZOFFSETTO:-0500
TZNAME:EST
DTSTART:20241103T060000
END:STANDARD
BEGIN:DAYLIGHT
TZOFFSETFROM:-0500
TZOFFSETTO:-0400
TZNAME:EDT
DTSTART:20250309T070000
END:DAYLIGHT
BEGIN:STANDARD
TZOFFSETFROM:-0400
TZOFFSETTO:-0500
TZNAME:EST
DTSTART:20251102T060000
END:STANDARD
BEGIN:DAYLIGHT
TZOFFSETFROM:-0500
TZOFFSETTO:-0400
TZNAME:EDT
DTSTART:20260308T070000
END:DAYLIGHT
BEGIN:STANDARD
TZOFFSETFROM:-0400
TZOFFSETTO:-0500
TZNAME:EST
DTSTART:20261101T060000
END:STANDARD
BEGIN:DAYLIGHT
TZOFFSETFROM:-0500
TZOFFSETTO:-0400
TZNAME:EDT
DTSTART:20270314T070000
END:DAYLIGHT
BEGIN:STANDARD
TZOFFSETFROM:-0400
TZOFFSETTO:-0500
TZNAME:EST
DTSTART:20271107T060000
END:STANDARD
END:VTIMEZONE
BEGIN:VEVENT
DTSTART;TZID=America/New_York:20251112T190000
DTEND;TZID=America/New_York:20251112T210000
DTSTAMP:20260421T042436
CREATED:20250930T060035Z
LAST-MODIFIED:20251117T181529Z
UID:10004620-1762974000-1762981200@dancinggnomebeer.com
SUMMARY:Trivia
DESCRIPTION:Weekly Drew’s Clues Trivia
URL:https://dancinggnomebeer.com/event-detail/trivia/2025-11-12/
LOCATION:1025 Main – Taproom\, 1025 Main Street\, Pittsburgh\, PA\, 15215\, United States
CATEGORIES:Taproom Events
ORGANIZER;CN="Dancing Gnome Beer":MAILTO:info@dancinggnomebeer.com
END:VEVENT
BEGIN:VEVENT
DTSTART;TZID=America/New_York:20260218T190000
DTEND;TZID=America/New_York:20260218T210000
DTSTAMP:20260421T042436
CREATED:20250930T060035Z
LAST-MODIFIED:20251117T181529Z
UID:10004634-1771441200-1771448400@dancinggnomebeer.com
SUMMARY:Trivia
DESCRIPTION:Weekly Drew’s Clues Trivia
URL:https://dancinggnomebeer.com/event-detail/trivia/2026-02-18/
LOCATION:1025 Main – Taproom\, 1025 Main Street\, Pittsburgh\, PA\, 15215\, United States
CATEGORIES:Taproom Events
ORGANIZER;CN="Dancing Gnome Beer":MAILTO:info@dancinggnomebeer.com
END:VEVENT
BEGIN:VEVENT
DTSTART;TZID=America/New_York:20251119T190000
DTEND;TZID=America/New_York:20251119T210000
DTSTAMP:20260421T042436
CREATED:20250930T060035Z
LAST-MODIFIED:20251117T181529Z
UID:10004621-1763578800-1763586000@dancinggnomebeer.com
SUMMARY:Trivia
DESCRIPTION:Weekly Drew’s Clues Trivia
URL:https://dancinggnomebeer.com/event-detail/trivia/2025-11-19/
LOCATION:1025 Main – Taproom\, 1025 Main Street\, Pittsburgh\, PA\, 15215\, United States
CATEGORIES:Taproom Events
ORGANIZER;CN="Dancing Gnome Beer":MAILTO:info@dancinggnomebeer.com
END:VEVENT
BEGIN:VEVENT
DTSTART;TZID=America/New_York:20260225T190000
DTEND;TZID=America/New_York:20260225T210000
DTSTAMP:20260421T042436
CREATED:20250930T060035Z
LAST-MODIFIED:20251117T181529Z
UID:10004635-1772046000-1772053200@dancinggnomebeer.com
SUMMARY:Trivia
DESCRIPTION:Weekly Drew’s Clues Trivia
URL:https://dancinggnomebeer.com/event-detail/trivia/2026-02-25/
LOCATION:1025 Main – Taproom\, 1025 Main Street\, Pittsburgh\, PA\, 15215\, United States
CATEGORIES:Taproom Events
ORGANIZER;CN="Dancing Gnome Beer":MAILTO:info@dancinggnomebeer.com
END:VEVENT
BEGIN:VEVENT
DTSTART;TZID=America/New_York:20251203T190000
DTEND;TZID=America/New_York:20251203T210000
DTSTAMP:20260421T042436
CREATED:20250930T060035Z
LAST-MODIFIED:20251117T181529Z
UID:10004623-1764788400-1764795600@dancinggnomebeer.com
SUMMARY:Trivia
DESCRIPTION:Weekly Drew’s Clues Trivia
URL:https://dancinggnomebeer.com/event-detail/trivia/2025-12-03/
LOCATION:1025 Main – Taproom\, 1025 Main Street\, Pittsburgh\, PA\, 15215\, United States
CATEGORIES:Taproom Events
ORGANIZER;CN="Dancing Gnome Beer":MAILTO:info@dancinggnomebeer.com
END:VEVENT
BEGIN:VEVENT
DTSTART;TZID=America/New_York:20260304T190000
DTEND;TZID=America/New_York:20260304T210000
DTSTAMP:20260421T042436
CREATED:20250930T060035Z
LAST-MODIFIED:20251117T181529Z
UID:10004636-1772650800-1772658000@dancinggnomebeer.com
SUMMARY:Trivia
DESCRIPTION:Weekly Drew’s Clues Trivia
URL:https://dancinggnomebeer.com/event-detail/trivia/2026-03-04/
LOCATION:1025 Main – Taproom\, 1025 Main Street\, Pittsburgh\, PA\, 15215\, United States
CATEGORIES:Taproom Events
ORGANIZER;CN="Dancing Gnome Beer":MAILTO:info@dancinggnomebeer.com
END:VEVENT
BEGIN:VEVENT
DTSTART;TZID=America/New_York:20251210T190000
DTEND;TZID=America/New_York:20251210T210000
DTSTAMP:20260421T042436
CREATED:20250930T060035Z
LAST-MODIFIED:20251117T181529Z
UID:10004624-1765393200-1765400400@dancinggnomebeer.com
SUMMARY:Trivia
DESCRIPTION:Weekly Drew’s Clues Trivia
URL:https://dancinggnomebeer.com/event-detail/trivia/2025-12-10/
LOCATION:1025 Main – Taproom\, 1025 Main Street\, Pittsburgh\, PA\, 15215\, United States
CATEGORIES:Taproom Events
ORGANIZER;CN="Dancing Gnome Beer":MAILTO:info@dancinggnomebeer.com
END:VEVENT
BEGIN:VEVENT
DTSTART;TZID=America/New_York:20260311T190000
DTEND;TZID=America/New_York:20260311T210000
DTSTAMP:20260421T042436
CREATED:20250930T060035Z
LAST-MODIFIED:20251117T181529Z
UID:10004637-1773255600-1773262800@dancinggnomebeer.com
SUMMARY:Trivia
DESCRIPTION:Weekly Drew’s Clues Trivia
URL:https://dancinggnomebeer.com/event-detail/trivia/2026-03-11/
LOCATION:1025 Main – Taproom\, 1025 Main Street\, Pittsburgh\, PA\, 15215\, United States
CATEGORIES:Taproom Events
ORGANIZER;CN="Dancing Gnome Beer":MAILTO:info@dancinggnomebeer.com
END:VEVENT
BEGIN:VEVENT
DTSTART;TZID=America/New_York:20251217T190000
DTEND;TZID=America/New_York:20251217T210000
DTSTAMP:20260421T042436
CREATED:20250930T060035Z
LAST-MODIFIED:20251117T181529Z
UID:10004625-1765998000-1766005200@dancinggnomebeer.com
SUMMARY:Trivia
DESCRIPTION:Weekly Drew’s Clues Trivia
URL:https://dancinggnomebeer.com/event-detail/trivia/2025-12-17/
LOCATION:1025 Main – Taproom\, 1025 Main Street\, Pittsburgh\, PA\, 15215\, United States
CATEGORIES:Taproom Events
ORGANIZER;CN="Dancing Gnome Beer":MAILTO:info@dancinggnomebeer.com
END:VEVENT
BEGIN:VEVENT
DTSTART;TZID=America/New_York:20260318T190000
DTEND;TZID=America/New_York:20260318T210000
DTSTAMP:20260421T042436
CREATED:20250930T060035Z
LAST-MODIFIED:20251117T181529Z
UID:10004638-1773860400-1773867600@dancinggnomebeer.com
SUMMARY:Trivia
DESCRIPTION:Weekly Drew’s Clues Trivia
URL:https://dancinggnomebeer.com/event-detail/trivia/2026-03-18/
LOCATION:1025 Main – Taproom\, 1025 Main Street\, Pittsburgh\, PA\, 15215\, United States
CATEGORIES:Taproom Events
ORGANIZER;CN="Dancing Gnome Beer":MAILTO:info@dancinggnomebeer.com
END:VEVENT
BEGIN:VEVENT
DTSTART;TZID=America/New_York:20251001T190000
DTEND;TZID=America/New_York:20251001T210000
DTSTAMP:20260421T042436
CREATED:20250930T060035Z
LAST-MODIFIED:20251117T181529Z
UID:10004614-1759345200-1759352400@dancinggnomebeer.com
SUMMARY:Trivia
DESCRIPTION:Weekly Drew’s Clues Trivia
URL:https://dancinggnomebeer.com/event-detail/trivia/2025-10-01/
LOCATION:1025 Main – Taproom\, 1025 Main Street\, Pittsburgh\, PA\, 15215\, United States
CATEGORIES:Taproom Events
ORGANIZER;CN="Dancing Gnome Beer":MAILTO:info@dancinggnomebeer.com
END:VEVENT
BEGIN:VEVENT
DTSTART;TZID=America/New_York:20260107T190000
DTEND;TZID=America/New_York:20260107T210000
DTSTAMP:20260421T042436
CREATED:20250930T060035Z
LAST-MODIFIED:20251117T181529Z
UID:10004628-1767812400-1767819600@dancinggnomebeer.com
SUMMARY:Trivia
DESCRIPTION:Weekly Drew’s Clues Trivia
URL:https://dancinggnomebeer.com/event-detail/trivia/2026-01-07/
LOCATION:1025 Main – Taproom\, 1025 Main Street\, Pittsburgh\, PA\, 15215\, United States
CATEGORIES:Taproom Events
ORGANIZER;CN="Dancing Gnome Beer":MAILTO:info@dancinggnomebeer.com
END:VEVENT
BEGIN:VEVENT
DTSTART;TZID=America/New_York:20260325T190000
DTEND;TZID=America/New_York:20260325T210000
DTSTAMP:20260421T042436
CREATED:20250930T060035Z
LAST-MODIFIED:20251117T181529Z
UID:10004639-1774465200-1774472400@dancinggnomebeer.com
SUMMARY:Trivia
DESCRIPTION:Weekly Drew’s Clues Trivia
URL:https://dancinggnomebeer.com/event-detail/trivia/2026-03-25/
LOCATION:1025 Main – Taproom\, 1025 Main Street\, Pittsburgh\, PA\, 15215\, United States
CATEGORIES:Taproom Events
ORGANIZER;CN="Dancing Gnome Beer":MAILTO:info@dancinggnomebeer.com
END:VEVENT
BEGIN:VEVENT
DTSTART;TZID=America/New_York:20251003T120000
DTEND;TZID=America/New_York:20251003T220000
DTSTAMP:20260421T042436
CREATED:20250930T060013Z
LAST-MODIFIED:20250930T153816Z
UID:10004875-1759492800-1759528800@dancinggnomebeer.com
SUMMARY:DG Anniversary Celebration - Open at Noon
DESCRIPTION:
URL:https://dancinggnomebeer.com/event-detail/dg-anniversary-celebration-open-at-noon/
LOCATION:1025 Main – Taproom\, 1025 Main Street\, Pittsburgh\, PA\, 15215\, United States
CATEGORIES:Special Hours
ORGANIZER;CN="Dancing Gnome Beer":MAILTO:info@dancinggnomebeer.com
END:VEVENT
BEGIN:VEVENT
DTSTART;TZID=America/New_York:20250926T140000
DTEND;TZID=America/New_York:20250926T220000
DTSTAMP:20260421T042436
CREATED:20250923T132124Z
LAST-MODIFIED:20250923T132124Z
UID:10004611-1758895200-1758924000@dancinggnomebeer.com
SUMMARY:Dead Sleep Stout - 8%
DESCRIPTION:
URL:https://dancinggnomebeer.com/event-detail/dead-sleep-stout-8/
LOCATION:1025 Main – Taproom\, 1025 Main Street\, Pittsburgh\, PA\, 15215\, United States
CATEGORIES:Can Releases
ORGANIZER;CN="Dancing Gnome Beer":MAILTO:info@dancinggnomebeer.com
END:VEVENT
BEGIN:VEVENT
DTSTART;TZID=America/New_York:20250923T160000
DTEND;TZID=America/New_York:20250923T220000
DTSTAMP:20260421T042436
CREATED:20250922T060047Z
LAST-MODIFIED:20250922T154209Z
UID:10004606-1758643200-1758664800@dancinggnomebeer.com
SUMMARY:62nd Street Bridge IPA - 6.6%
DESCRIPTION:
URL:https://dancinggnomebeer.com/event-detail/62nd-street-bridge-ipa-6-6/
LOCATION:1025 Main – Taproom\, 1025 Main Street\, Pittsburgh\, PA\, 15215\, United States
CATEGORIES:Can Releases
ORGANIZER;CN="Dancing Gnome Beer":MAILTO:info@dancinggnomebeer.com
END:VEVENT
BEGIN:VEVENT
DTSTART;TZID=America/New_York:20251007T160000
DTEND;TZID=America/New_York:20251007T220000
DTSTAMP:20260421T042436
CREATED:20250922T060019Z
LAST-MODIFIED:20251006T150903Z
UID:10004609-1759852800-1759874400@dancinggnomebeer.com
SUMMARY:English Mild - 3.2%
DESCRIPTION:
URL:https://dancinggnomebeer.com/event-detail/english-mild-4-5/
LOCATION:1025 Main – Taproom\, 1025 Main Street\, Pittsburgh\, PA\, 15215\, United States
CATEGORIES:Bottle Releases
ATTACH;FMTTYPE=image/jpeg:https://craftpeak-cooler-images.imgix.net/dancing-gnome-brewery/Mild-mockup.jpg?auto=compress%2Cformat&ixlib=php-3.3.1&s=723ff0f8f0f62e93de683c6580f61bb9
ORGANIZER;CN="Dancing Gnome Beer":MAILTO:info@dancinggnomebeer.com
END:VEVENT
BEGIN:VEVENT
DTSTART;TZID=America/New_York:20251003T120000
DTEND;TZID=America/New_York:20251003T220000
DTSTAMP:20260421T042436
CREATED:20250922T060015Z
LAST-MODIFIED:20250922T155850Z
UID:10004608-1759492800-1759528800@dancinggnomebeer.com
SUMMARY:Nobody's Monkey Imperial Stout - 9%
DESCRIPTION:
URL:https://dancinggnomebeer.com/event-detail/nobodys-monkey-imperial-stout-9/
LOCATION:1025 Main – Taproom\, 1025 Main Street\, Pittsburgh\, PA\, 15215\, United States
CATEGORIES:Can Releases
ATTACH;FMTTYPE=image/jpeg:https://craftpeak-cooler-images.imgix.net/dancing-gnome-brewery/NobodysMonkey-mockup-resize.jpg?auto=compress%2Cformat&ixlib=php-3.3.1&s=073f64b7656cc6acdec31e6e691c97a3
ORGANIZER;CN="Dancing Gnome Beer":MAILTO:info@dancinggnomebeer.com
END:VEVENT
BEGIN:VEVENT
DTSTART;TZID=America/New_York:20251003T120000
DTEND;TZID=America/New_York:20251003T220000
DTSTAMP:20260421T042436
CREATED:20250922T060000Z
LAST-MODIFIED:20250922T155950Z
UID:10004607-1759492800-1759528800@dancinggnomebeer.com
SUMMARY:Nobody's Robot IPA - 8.2%
DESCRIPTION:
URL:https://dancinggnomebeer.com/event-detail/nobodys-robot-ipa-8-2/
LOCATION:1025 Main – Taproom\, 1025 Main Street\, Pittsburgh\, PA\, 15215\, United States
CATEGORIES:Can Releases
ATTACH;FMTTYPE=image/jpeg:https://craftpeak-cooler-images.imgix.net/dancing-gnome-brewery/NobodysRobot_mockup-1-scaled.jpg?auto=compress%2Cformat&ixlib=php-3.3.1&s=d28884200535b49734c82bab6f6c6e71
ORGANIZER;CN="Dancing Gnome Beer":MAILTO:info@dancinggnomebeer.com
END:VEVENT
BEGIN:VEVENT
DTSTART;TZID=America/New_York:20250921T110000
DTEND;TZID=America/New_York:20250921T140000
DTSTAMP:20260421T042436
CREATED:20250918T060045Z
LAST-MODIFIED:20250918T205646Z
UID:10004605-1758452400-1758463200@dancinggnomebeer.com
SUMMARY:Special Sunday Hours - 11am-2pm
DESCRIPTION:
URL:https://dancinggnomebeer.com/event-detail/special-sunday-hours-11am-2pm/
LOCATION:1025 Main – Taproom\, 1025 Main Street\, Pittsburgh\, PA\, 15215\, United States
CATEGORIES:Special Hours
ORGANIZER;CN="Dancing Gnome Beer":MAILTO:info@dancinggnomebeer.com
END:VEVENT
BEGIN:VEVENT
DTSTART;TZID=America/New_York:20251129T120000
DTEND;TZID=America/New_York:20251129T210000
DTSTAMP:20260421T042436
CREATED:20250912T140015Z
LAST-MODIFIED:20251117T185657Z
UID:10002082-1764417600-1764450000@dancinggnomebeer.com
SUMMARY:Blue Sparrow
DESCRIPTION:
URL:https://dancinggnomebeer.com/event-detail/blue-sparrow-the-bus-dancing-gnome-3-2/2025-11-29/
LOCATION:1025 Main – Taproom\, 1025 Main Street\, Pittsburgh\, PA\, 15215\, United States
CATEGORIES:Food Trucks
ORGANIZER;CN="Dancing Gnome Beer":MAILTO:info@dancinggnomebeer.com
END:VEVENT
BEGIN:VEVENT
DTSTART;TZID=America/New_York:20260214T120000
DTEND;TZID=America/New_York:20260214T210000
DTSTAMP:20260421T042436
CREATED:20250912T140015Z
LAST-MODIFIED:20251117T185657Z
UID:10002093-1771070400-1771102800@dancinggnomebeer.com
SUMMARY:Blue Sparrow
DESCRIPTION:
URL:https://dancinggnomebeer.com/event-detail/blue-sparrow-the-bus-dancing-gnome-3-2/2026-02-14/
LOCATION:1025 Main – Taproom\, 1025 Main Street\, Pittsburgh\, PA\, 15215\, United States
CATEGORIES:Food Trucks
ORGANIZER;CN="Dancing Gnome Beer":MAILTO:info@dancinggnomebeer.com
END:VEVENT
BEGIN:VEVENT
DTSTART;TZID=America/New_York:20250920T120000
DTEND;TZID=America/New_York:20250920T210000
DTSTAMP:20260421T042436
CREATED:20250912T140015Z
LAST-MODIFIED:20251117T185657Z
UID:10002072-1758369600-1758402000@dancinggnomebeer.com
SUMMARY:Blue Sparrow
DESCRIPTION:
URL:https://dancinggnomebeer.com/event-detail/blue-sparrow-the-bus-dancing-gnome-3-2/2025-09-20/
LOCATION:1025 Main – Taproom\, 1025 Main Street\, Pittsburgh\, PA\, 15215\, United States
CATEGORIES:Food Trucks
ORGANIZER;CN="Dancing Gnome Beer":MAILTO:info@dancinggnomebeer.com
END:VEVENT
BEGIN:VEVENT
DTSTART;TZID=America/New_York:20251206T120000
DTEND;TZID=America/New_York:20251206T210000
DTSTAMP:20260421T042436
CREATED:20250912T140015Z
LAST-MODIFIED:20251117T185657Z
UID:10002083-1765022400-1765054800@dancinggnomebeer.com
SUMMARY:Blue Sparrow
DESCRIPTION:
URL:https://dancinggnomebeer.com/event-detail/blue-sparrow-the-bus-dancing-gnome-3-2/2025-12-06/
LOCATION:1025 Main – Taproom\, 1025 Main Street\, Pittsburgh\, PA\, 15215\, United States
CATEGORIES:Food Trucks
ORGANIZER;CN="Dancing Gnome Beer":MAILTO:info@dancinggnomebeer.com
END:VEVENT
BEGIN:VEVENT
DTSTART;TZID=America/New_York:20260221T120000
DTEND;TZID=America/New_York:20260221T210000
DTSTAMP:20260421T042436
CREATED:20250912T140015Z
LAST-MODIFIED:20251117T185657Z
UID:10002094-1771675200-1771707600@dancinggnomebeer.com
SUMMARY:Blue Sparrow
DESCRIPTION:
URL:https://dancinggnomebeer.com/event-detail/blue-sparrow-the-bus-dancing-gnome-3-2/2026-02-21/
LOCATION:1025 Main – Taproom\, 1025 Main Street\, Pittsburgh\, PA\, 15215\, United States
CATEGORIES:Food Trucks
ORGANIZER;CN="Dancing Gnome Beer":MAILTO:info@dancinggnomebeer.com
END:VEVENT
BEGIN:VEVENT
DTSTART;TZID=America/New_York:20250927T120000
DTEND;TZID=America/New_York:20250927T210000
DTSTAMP:20260421T042436
CREATED:20250912T140015Z
LAST-MODIFIED:20251117T185657Z
UID:10002073-1758974400-1759006800@dancinggnomebeer.com
SUMMARY:Blue Sparrow
DESCRIPTION:
URL:https://dancinggnomebeer.com/event-detail/blue-sparrow-the-bus-dancing-gnome-3-2/2025-09-27/
LOCATION:1025 Main – Taproom\, 1025 Main Street\, Pittsburgh\, PA\, 15215\, United States
CATEGORIES:Food Trucks
ORGANIZER;CN="Dancing Gnome Beer":MAILTO:info@dancinggnomebeer.com
END:VEVENT
BEGIN:VEVENT
DTSTART;TZID=America/New_York:20251213T120000
DTEND;TZID=America/New_York:20251213T210000
DTSTAMP:20260421T042436
CREATED:20250912T140015Z
LAST-MODIFIED:20251117T185657Z
UID:10002084-1765627200-1765659600@dancinggnomebeer.com
SUMMARY:Blue Sparrow
DESCRIPTION:
URL:https://dancinggnomebeer.com/event-detail/blue-sparrow-the-bus-dancing-gnome-3-2/2025-12-13/
LOCATION:1025 Main – Taproom\, 1025 Main Street\, Pittsburgh\, PA\, 15215\, United States
CATEGORIES:Food Trucks
ORGANIZER;CN="Dancing Gnome Beer":MAILTO:info@dancinggnomebeer.com
END:VEVENT
BEGIN:VEVENT
DTSTART;TZID=America/New_York:20260228T120000
DTEND;TZID=America/New_York:20260228T210000
DTSTAMP:20260421T042436
CREATED:20250912T140015Z
LAST-MODIFIED:20251117T185657Z
UID:10002095-1772280000-1772312400@dancinggnomebeer.com
SUMMARY:Blue Sparrow
DESCRIPTION:
URL:https://dancinggnomebeer.com/event-detail/blue-sparrow-the-bus-dancing-gnome-3-2/2026-02-28/
LOCATION:1025 Main – Taproom\, 1025 Main Street\, Pittsburgh\, PA\, 15215\, United States
CATEGORIES:Food Trucks
ORGANIZER;CN="Dancing Gnome Beer":MAILTO:info@dancinggnomebeer.com
END:VEVENT
BEGIN:VEVENT
DTSTART;TZID=America/New_York:20251004T120000
DTEND;TZID=America/New_York:20251004T210000
DTSTAMP:20260421T042436
CREATED:20250912T140015Z
LAST-MODIFIED:20251117T185657Z
UID:10002074-1759579200-1759611600@dancinggnomebeer.com
SUMMARY:Blue Sparrow
DESCRIPTION:
URL:https://dancinggnomebeer.com/event-detail/blue-sparrow-the-bus-dancing-gnome-3-2/2025-10-04/
LOCATION:1025 Main – Taproom\, 1025 Main Street\, Pittsburgh\, PA\, 15215\, United States
CATEGORIES:Food Trucks
ORGANIZER;CN="Dancing Gnome Beer":MAILTO:info@dancinggnomebeer.com
END:VEVENT
BEGIN:VEVENT
DTSTART;TZID=America/New_York:20251220T120000
DTEND;TZID=America/New_York:20251220T210000
DTSTAMP:20260421T042436
CREATED:20250912T140015Z
LAST-MODIFIED:20251117T185657Z
UID:10002085-1766232000-1766264400@dancinggnomebeer.com
SUMMARY:Blue Sparrow
DESCRIPTION:
URL:https://dancinggnomebeer.com/event-detail/blue-sparrow-the-bus-dancing-gnome-3-2/2025-12-20/
LOCATION:1025 Main – Taproom\, 1025 Main Street\, Pittsburgh\, PA\, 15215\, United States
CATEGORIES:Food Trucks
ORGANIZER;CN="Dancing Gnome Beer":MAILTO:info@dancinggnomebeer.com
END:VEVENT
END:VCALENDAR